BEGIN:VCALENDAR
VERSION:2.0
PRODID:-//perinnejazz.fi - ECPv6.15.5//NONSGML v1.0//EN
CALSCALE:GREGORIAN
METHOD:PUBLISH
X-WR-CALNAME:perinnejazz.fi
X-ORIGINAL-URL:https://perinnejazz.fi
X-WR-CALDESC:Tapahtumat perinnejazz.fi
REFRESH-INTERVAL;VALUE=DURATION:PT1H
X-Robots-Tag:noindex
X-PUBLISHED-TTL:PT1H
BEGIN:VTIMEZONE
TZID:Europe/Helsinki
BEGIN:DAYLIGHT
TZOFFSETFROM:+0200
TZOFFSETTO:+0300
TZNAME:EEST
DTSTART:20240331T010000
END:DAYLIGHT
BEGIN:STANDARD
TZOFFSETFROM:+0300
TZOFFSETTO:+0200
TZNAME:EET
DTSTART:20241027T010000
END:STANDARD
END:VTIMEZONE
BEGIN:VEVENT
DTSTART;TZID=Europe/Helsinki:20240304T170000
DTEND;TZID=Europe/Helsinki:20240304T220000
DTSTAMP:20260420T115212
CREATED:20240208T163044Z
LAST-MODIFIED:20240218T044926Z
UID:7880-1709571600-1709589600@perinnejazz.fi
SUMMARY:Seppo Olkkonen Quintet feat. Sirkka Keiski
DESCRIPTION:Seppo Olkkonen Quintet: Raimo Korhonen\, Seppo Olkkonen\, Jukka Riikonen\, Arto Alho\, Ole Ekman sekä Sirkka Keiski voc. \nSirkka Keiski \nVAPAA PÄÄSY \nIlta päättyy jameihin klo 22.00. Lisätietoja: tuottaja Jaakko Rinne\, puhelin 050 – 412 4174 ja Jarmo Karamäki\, puhelin 040-827 5198
URL:https://perinnejazz.fi/tapahtuma/seppo-olkkonen-quintet-feat-sirkka-keiski/
LOCATION:Ravintola Nyyrikki\, Pohjolankatu 2\, Helsinki\, 00610\, Suomi
ATTACH;FMTTYPE=image/jpeg:https://perinnejazz.fi/wp-content/uploads/2024/02/soq.jpg
END:VEVENT
BEGIN:VEVENT
DTSTART;TZID=Europe/Helsinki:20240312T193000
DTEND;TZID=Europe/Helsinki:20240312T220000
DTSTAMP:20260420T115212
CREATED:20240211T060026Z
LAST-MODIFIED:20240129T135210Z
UID:7863-1710271800-1710280800@perinnejazz.fi
SUMMARY:” THE SOUND OF RONNIE KRANCK”
DESCRIPTION:Olemme saaneet käsiimme alkuperäisiä nuotistoja Ronnie Kranck´in orkesterin sovituksista\, ja tarkoituksena on siirtää ne tähän päivään ja laajentaa niitä\, käyttäen hyväksi yhtyeen jäsenten korkeaa solistista tasoa. \nSovitusten harmonikkaosuuksien hallinta vaatii syvää tyylillistä asiantuntemusta ja sitä edustaa maassamme parhaiten Mika Huusari. Puhallinsolistien lahjakkaan etulinjan muodostavat Timo Paasonen (tpt)\, Mikko Mäkinen (cl\, ten sax\, fl) ja Seppo Olkkonen (bari sax). Svengin takaavat Atro ”Wade” Mikkola (bs) ja Jari ”Kepa” Kettunen (drms). \nTHE SOUND OF RONNIE KRANCK projektin musiikki soveltuu hyvin sekä tanssittavaksi\, että kuunneltavaksi\, ja tuo hienosti esille suomalaisen jazzmusiikin aitoa perinteistä sointia. \nRonnie Kranck Orchestra 1960-luvulla \nYhteyshenkilö:\nWade Mikkola +358 40 754 1404\, wademikkola@msn.com
URL:https://perinnejazz.fi/tapahtuma/the-sound-of-ronnie-kranck/
LOCATION:On The Rock´s\, Mikonkatu 15\, Helsinki\, 00100\, Suomi
ATTACH;FMTTYPE=image/jpeg:https://perinnejazz.fi/wp-content/uploads/2024/01/Sounf-of-Ronnie-Kranck-sekstetti.jpg
END:VEVENT
END:VCALENDAR