BEGIN:VCALENDAR
VERSION:2.0
PRODID:-//perinnejazz.fi - ECPv6.15.5//NONSGML v1.0//EN
CALSCALE:GREGORIAN
METHOD:PUBLISH
X-WR-CALNAME:perinnejazz.fi
X-ORIGINAL-URL:https://perinnejazz.fi
X-WR-CALDESC:Tapahtumat perinnejazz.fi
REFRESH-INTERVAL;VALUE=DURATION:PT1H
X-Robots-Tag:noindex
X-PUBLISHED-TTL:PT1H
BEGIN:VTIMEZONE
TZID:Europe/Helsinki
BEGIN:DAYLIGHT
TZOFFSETFROM:+0200
TZOFFSETTO:+0300
TZNAME:EEST
DTSTART:20230326T010000
END:DAYLIGHT
BEGIN:STANDARD
TZOFFSETFROM:+0300
TZOFFSETTO:+0200
TZNAME:EET
DTSTART:20231029T010000
END:STANDARD
END:VTIMEZONE
BEGIN:VEVENT
DTSTART;TZID=Europe/Helsinki:20231106T170000
DTEND;TZID=Europe/Helsinki:20231106T220000
DTSTAMP:20260420T201041
CREATED:20230710T161136Z
LAST-MODIFIED:20231106T050948Z
UID:7142-1699290000-1699308000@perinnejazz.fi
SUMMARY:Djangomania Orchestra
DESCRIPTION:OHJELMA \nklo 17.00–18.00 ruokailu\nklo 18.00–18.45 Djangomania Orchestra; Arto Nybom viulu\, Vesa Tompuri kitara\, Kari Korpinen basso ja Joose Ojala hanuri\nklo 18.45–19.15 Äänitysstudion toiminnan esittely Robi de Godzinsky \n\n		\n		\n			\n				\n			\n				\n				Joose Ojala\n				\n			\n				\n			\n				\n				Äänitys\n				\n			\n				\n			\n				\n				Robi de Godzinsky\n				\n		\n\n  \nklo 19.15–20.00 Djangomania Orchestra\nklo 20.00–22.00 JAMIT\, isäntänä Jarmo Karamäki \nLisätietoja: tuottaja Jaakko Rinne\, puhelin 050 – 412 4174 ja jami-isäntä Jarmo Karamäki\, puhelin 040-827 5198 \nTapahtumaan on vapaa pääsy\, ruokailua suositellaan. Pöytävaraus edellyttää ruokailua. \nRavintola Nyyrikki\, Pohjolankatu 2\, 00610 Helsinki\nPuhelin (09) 757 2299\, ravintola@nyyrikki.fi    
URL:https://perinnejazz.fi/tapahtuma/djangomania-orchestra/
LOCATION:Ravintola Nyyrikki\, Pohjolankatu 2\, Helsinki\, 00610\, Suomi
ATTACH;FMTTYPE=image/jpeg:https://perinnejazz.fi/wp-content/uploads/2020/02/djangomania.jpg
END:VEVENT
BEGIN:VEVENT
DTSTART;TZID=Europe/Helsinki:20231107T193000
DTEND;TZID=Europe/Helsinki:20231107T220000
DTSTAMP:20260420T201041
CREATED:20230830T130129Z
LAST-MODIFIED:20230830T130129Z
UID:7305-1699385400-1699394400@perinnejazz.fi
SUMMARY:BBQ Jazzband feat. Erja Uitto
DESCRIPTION:BBQ Jazzband feat. Erja Uitto: Kaikille swingin ja Lindy Hopin ystäville \nLiput 17e\, SPJ ry:n jäsenille 12e \nTiketti.fi   Showtime noin klo 19:30-22:00
URL:https://perinnejazz.fi/tapahtuma/bbq-jazzband-feat-erja-uitto/
LOCATION:On The Rock´s\, Mikonkatu 15\, Helsinki\, 00100\, Suomi
ATTACH;FMTTYPE=image/jpeg:https://perinnejazz.fi/wp-content/uploads/2021/11/BO.jpg
END:VEVENT
END:VCALENDAR