BEGIN:VCALENDAR
VERSION:2.0
PRODID:-//perinnejazz.fi - ECPv6.15.5//NONSGML v1.0//EN
CALSCALE:GREGORIAN
METHOD:PUBLISH
X-WR-CALNAME:perinnejazz.fi
X-ORIGINAL-URL:https://perinnejazz.fi
X-WR-CALDESC:Tapahtumat perinnejazz.fi
REFRESH-INTERVAL;VALUE=DURATION:PT1H
X-Robots-Tag:noindex
X-PUBLISHED-TTL:PT1H
BEGIN:VTIMEZONE
TZID:Europe/Helsinki
BEGIN:DAYLIGHT
TZOFFSETFROM:+0200
TZOFFSETTO:+0300
TZNAME:EEST
DTSTART:20230326T010000
END:DAYLIGHT
BEGIN:STANDARD
TZOFFSETFROM:+0300
TZOFFSETTO:+0200
TZNAME:EET
DTSTART:20231029T010000
END:STANDARD
END:VTIMEZONE
BEGIN:VEVENT
DTSTART;TZID=Europe/Helsinki:20230904T170000
DTEND;TZID=Europe/Helsinki:20230904T220000
DTSTAMP:20260420T232726
CREATED:20230731T024837Z
LAST-MODIFIED:20230731T033139Z
UID:7235-1693846800-1693864800@perinnejazz.fi
SUMMARY:Kimmo Leppälä Quartet & Erja Uitto
DESCRIPTION:Maanantai 4.9.\nklo 17.00–18.00 ruokailu\nklo 18.00–18.45 Kimmo Leppälä Quartet voc. Erja Uitto\nklo 18.45–19.15 Trubaduuri ”Seppis” Matti Seppänen\, mies laulu ja kitara\nklo 19.15–20.00 Kimmo Leppälä Quartet\nklo 20.00–22.00 Kaikille vapaat jamit \n\n		\n		\n			\n				\n			\n				\n				Erja Uitto\n				\n			\n				\n			\n				\n				Matti ”Seppis” Seppänen\n				\n		\n\n  \nVAPAA PÄÄSY \nLisätietoja: tuottaja Jaakko Rinne\, puhelin 050 – 412 4174 ja jami-isäntä Jarmo Karamäki\, puhelin 040-827 5198 \n\n		\n		\n			\n				\n			\n				\n				Jaakko Rinne\n				\n			\n				\n			\n				\n				Jarmo Karamäki\n				\n		\n\nwww.nyyrikki.fi
URL:https://perinnejazz.fi/tapahtuma/kimmo-lepaala-quartet-erja-uitto/
LOCATION:Ravintola Nyyrikki\, Pohjolankatu 2\, Helsinki\, 00610\, Suomi
ATTACH;FMTTYPE=image/jpeg:https://perinnejazz.fi/wp-content/uploads/2023/01/kim-lep-2.jpg
END:VEVENT
BEGIN:VEVENT
DTSTART;TZID=Europe/Helsinki:20230905T193000
DTEND;TZID=Europe/Helsinki:20230905T220000
DTSTAMP:20260420T232726
CREATED:20230830T121958Z
LAST-MODIFIED:20230830T122059Z
UID:7293-1693942200-1693951200@perinnejazz.fi
SUMMARY:Jukka Perko PreBoppers käynnistää On The Rocksin syksyn swingtanssi-illat
DESCRIPTION:Jukka Perko ystävineen tarjoaa kuulijoilleen täyslaidallisen jalan alle menevää jazzia. Tämän yhtyeen etevien soittoniekkojen käsissä ikivihreät sävelmät saavat uuden elämän ja tempaavat kuulijansa mukaan musiikilliselle aikamatkalle 1930-1940-lukujen Ameriikkaan. PreBoppers esittääkin On The Rocksissa tanssiin kutsun erityisesti kaikille swingin ja Lindy Hopin ystäville! \nKokoonpano: \nJukka Perko – saksofoni\nTomi Kettunen – kitara\nArto Ikävalko – piano\nEero Seppä – basso\nTeppo Mäkynen – rummut \nLiput 17e\, SPJ ry:n jäsenille 12e Tiketti.fi tästä   \nShowtime noin klo 19:30-22:00 \nOn The Rocks\, Mikonkatu 15\, 00100 Helsinki \n 
URL:https://perinnejazz.fi/tapahtuma/jukka-perko-preboppers/
LOCATION:On The Rock´s\, Mikonkatu 15\, Helsinki\, 00100\, Suomi
ATTACH;FMTTYPE=image/jpeg:https://perinnejazz.fi/wp-content/uploads/2023/08/jp.jpg
END:VEVENT
BEGIN:VEVENT
DTSTART;TZID=Europe/Helsinki:20230912T190000
DTEND;TZID=Europe/Helsinki:20230912T213000
DTSTAMP:20260420T232726
CREATED:20230508T180537Z
LAST-MODIFIED:20230729T162935Z
UID:7045-1694545200-1694554200@perinnejazz.fi
SUMMARY:Tähtisumua - From Classic To Swing
DESCRIPTION:Suomen PerinneJazz ry:n vuoden 2023 pääkonsertti ”Tähtisumua – From Classics To Swing” pidetään ti 12.9. klo 19.00 Savoy-teatterissa Helsingissä. Sopraano Angelika Klas ja Seppo Hovin Trio esittävät klassisen musiikin helmiä ja jazzversioita musikaalisävelmistä swingin kulta-ajalta. \nTähtisumua – From Classics To Swing  \nSavoy-teatteri Helsinki\, ti 12.9.2023 klo 19.00 \nEsiintyjät:\nAngelika Klas\, laulu\nSeppo Hovi\, piano ja juonto\nAntti Sarpila\, klarinetti\nHannu Rantanen\, kontrabasso \nLiput alkaen 24\,50 € TÄSTÄ
URL:https://perinnejazz.fi/tapahtuma/tahtisumua-konsertti/
LOCATION:Savoy Teatteri\, Eteläesplanadi 14\, Helsinki\, 00100\, Suomi
ATTACH;FMTTYPE=image/jpeg:https://perinnejazz.fi/wp-content/uploads/2023/07/ts23fb.jpg
END:VEVENT
BEGIN:VEVENT
DTSTART;TZID=Europe/Helsinki:20230920T170000
DTEND;TZID=Europe/Helsinki:20230920T220000
DTSTAMP:20260420T232726
CREATED:20230904T092801Z
LAST-MODIFIED:20230904T093122Z
UID:7312-1695229200-1695247200@perinnejazz.fi
SUMMARY:Muusikko Ilkka Virton muistojamit Nyyrikissä
DESCRIPTION:Kuva Ilkka Virton viimeiseltä keikalta: Robi de Godzinsky (vas.)\, Ilkka\, Ilkka Hanski\, Jarmo Karamäki ja veli Mikko Virto \nViime kesäkuussa kuolleen muusikko Ilkka Virton  (1946-2023) muistojamit ke 20.9. klo 17.00-22.00  ravintola Nyyrikissä. Mukana bändejä\, joissa Ilkka soitti. VAPAA PÄÄSY \nHarri Aavaharjun muistokirjoitus Ilkasta Jazzrytmeissä löytyy TÄSTÄ \nRavintola Nyyrikki\, Pohjolankatu 2\, 00610 Helsinki\, puhelin (09) 757 2299\nravintola@nyyrikki.fi \nLisätietoja: Jarmo Karamäki\, puh. 040-827 5198 ja Jaakko Rinne\, puh. 050 – 412 4174 \nJärjestää Ilkka Virton muisteluryhmä
URL:https://perinnejazz.fi/tapahtuma/muusikko-ilkka-virton-muistojamit-nyyrikissa/
LOCATION:Ravintola Nyyrikki\, Pohjolankatu 2\, Helsinki\, 00610\, Suomi
ATTACH;FMTTYPE=image/jpeg:https://perinnejazz.fi/wp-content/uploads/2023/09/kuva-2.jpg
END:VEVENT
BEGIN:VEVENT
DTSTART;TZID=Europe/Helsinki:20230928T183000
DTEND;TZID=Europe/Helsinki:20230928T210000
DTSTAMP:20260420T232726
CREATED:20230908T122641Z
LAST-MODIFIED:20230908T123635Z
UID:7326-1695925800-1695934800@perinnejazz.fi
SUMMARY:Swinging Standard Time !
DESCRIPTION:Suomen PerinneJazz ry:n syksy Café Caruselissa jatkuu teemalla Swinging Standard Time! \nLuvassa on kaksi maamme kärkisaksofonistia\, jotka kvartetteineen paneutuvat jazzmusiikin puitteissa tunnetuksi tulleisiin melodioihin. Molempia solisteja on pyydetty kokoamaan ohjelmisto\, joka koostuu heidän omista mieliteemoistaan. Näin pääsemme kuulemaan heidän henkilökohtaista ääntään näiden musiikillisten aarteiden tulkinnoissa. \nSyyskuussa esiintyy Jukka Perkon huippuluokan kvartetti\, jossa soittavat: Jukka Perko (saxes)\, Toomas Keski-Säntti (pno)\, Eero Seppä (bs) Teppo Mäkynen (drms). \nEsitykset: 18:30-21:00 Sisäänpääsy: 15 € / 10 € jäsenille
URL:https://perinnejazz.fi/tapahtuma/swinging-standard-time/
LOCATION:Café Carusel\, Merisatamanranta 10\, Helsinki\, 00150\, Suomi
ATTACH;FMTTYPE=image/jpeg:https://perinnejazz.fi/wp-content/uploads/2023/09/Kuva1.jpg
END:VEVENT
END:VCALENDAR