BEGIN:VCALENDAR
VERSION:2.0
PRODID:-//perinnejazz.fi - ECPv6.15.5//NONSGML v1.0//EN
CALSCALE:GREGORIAN
METHOD:PUBLISH
X-ORIGINAL-URL:https://perinnejazz.fi
X-WR-CALDESC:Tapahtumat perinnejazz.fi
REFRESH-INTERVAL;VALUE=DURATION:PT1H
X-Robots-Tag:noindex
X-PUBLISHED-TTL:PT1H
BEGIN:VTIMEZONE
TZID:Europe/Helsinki
BEGIN:DAYLIGHT
TZOFFSETFROM:+0200
TZOFFSETTO:+0300
TZNAME:EEST
DTSTART:20230326T010000
END:DAYLIGHT
BEGIN:STANDARD
TZOFFSETFROM:+0300
TZOFFSETTO:+0200
TZNAME:EET
DTSTART:20231029T010000
END:STANDARD
END:VTIMEZONE
BEGIN:VEVENT
DTSTART;TZID=Europe/Helsinki:20230804T190000
DTEND;TZID=Europe/Helsinki:20230804T210000
DTSTAMP:20260421T011242
CREATED:20230729T163608Z
LAST-MODIFIED:20230729T164112Z
UID:7218-1691175600-1691182800@perinnejazz.fi
SUMMARY:Alan Matheson & Wade Mikkola Duo levynjulkaisukonsertti
DESCRIPTION:Alan Matheson & Wade Mikkola Duo julkaisee neljännen CD levynsä “Rainy Night in Helsinki” pe 4.8. Cafe Caruselissa klo 19:00. Levy sisältää pääasiassa Mathesonin (CAN) ja Mikkolan omia jazz-sävellyksiä parin sovituksen lisäksi. \nVAPAA PÄÄSY
URL:https://perinnejazz.fi/tapahtuma/alan-matheson-wade-mikkola-duo-levynjulkaisukonsertti/
LOCATION:Café Carusel\, Merisatamanranta 10\, Helsinki\, 00150\, Suomi
ATTACH;FMTTYPE=image/jpeg:https://perinnejazz.fi/wp-content/uploads/2023/07/am_wm.jpg
END:VEVENT
BEGIN:VEVENT
DTSTART;TZID=Europe/Helsinki:20230811T190000
DTEND;TZID=Europe/Helsinki:20230811T213000
DTSTAMP:20260421T011242
CREATED:20230722T174819Z
LAST-MODIFIED:20230730T183151Z
UID:7163-1691780400-1691789400@perinnejazz.fi
SUMMARY:Levynjulkistuskeikka Acoustic Dixie Six &Nina Lindroos
DESCRIPTION:Perinteisten\, svengaavien jazz-tyylien taitaja Acoustic Dixie Six julkaisee toisen studioalbuminsa Back with a Swing On The Rocksissa pe 11.8.2023 klo 19. Laulusolistina esiintyy upeaääninen Nina Lindroos\, jonka kanssa bändi teki myös esikoislevynsä Struttin’ Our Stuff vuonna 2014 (Osku Rajalan arvio esikoisesta TÄSSÄ). \nHelsingissä 1999 perustettu bändi on vakiinnuttanut asemansa perinteisen\, iloisen ja tanssittavan New Orleans -jazzin lähettiläänä. Mm. Helsingin jazzklubi Storyvillen vakiokaartiin kuuluva Acoustic Dixie Six on esiintynyt ahkerasti kotimaassa ja kiertänyt myös kansainvälisillä jazzfestivaaleilla muun muassa Saksan Dresdenissä\, Unkarissa sekä Puolassa ja Alankomaissa. \nAcoustic Dixie Six:  Niklas Andersson (tpt/voc)\, Bengt-Ove Fagerhed (tb/voc/arr)\, Olli Salmi (cl/voc)\, Marcus Weckström (tba)\, Petri Tötterman (bjo) ja Samu Laiho (d) sekä Nina Lindroos (voc). \nLiput 10 eur/kpl TIKETISTÄ \nJärjestäjä: Acoustic Dixie Six
URL:https://perinnejazz.fi/tapahtuma/levynjulkistuskeikka-acoustic-dixie-six-nina-lindroos/
LOCATION:On The Rock´s\, Mikonkatu 15\, Helsinki\, 00100\, Suomi
ATTACH;FMTTYPE=image/jpeg:https://perinnejazz.fi/wp-content/uploads/2020/02/ad6Nina.jpg
END:VEVENT
BEGIN:VEVENT
DTSTART;TZID=Europe/Helsinki:20230830T183000
DTEND;TZID=Europe/Helsinki:20230830T203000
DTSTAMP:20260421T011242
CREATED:20230822T031048Z
LAST-MODIFIED:20230822T110112Z
UID:7258-1693420200-1693427400@perinnejazz.fi
SUMMARY:Antti Sarpila Swing Band
DESCRIPTION:Suomen PerinneJazz ry:n syksyn jazzkausi Café Caruselissa alkaa komeasti! Keskiviikkona 30.8. lavalle nousee Antti Sarpila Swing Band: Antti Sarpila cl/sax\, Janne Hovi p\, Wade Mikkola b ja ”Kepa” Kettunen dr. \nSoitto alkaa puoli seitsemän aikaan\, mutta kokemus on osoittanut\, että parhaat paikat täyttyvät jo kuuden kieppeillä. Pöydät lähimpänä orkesteria ovat varattuja ruokailijoille\, pöytävaraukset puhelin 09-622 4522. Suosittelemme illallisen nauttimista bändi-illan aikana. Caruselin monipuoliselta ruokalistalta löytyy niin raikkaita salaatteja\, piiraita ja pikkulämpimiä\, keittoja sekä pizzoja (myös gluteenittomana). \nValitettavasti yleinen kustannustaso on kohonnut voimakkaasti\, että joudumme jatkossa perimään pääsymaksun. Pääsylippujen hinnat 15\,00 eur/kpl ja jäsenet 10 eur/kpl. Lipputulot menevät kokonaisuudessaan esiintyjille. \nJäsenmaksu on 25 eur/vuosi\, jäseneksi voit liittyä TÄSSÄ. \nCafé Carusel Merisatamanranta 10\, 00150 Helsinki\, puhelin 358 9 622 4522 \n  \n 
URL:https://perinnejazz.fi/tapahtuma/caruselin-syysjazzit-alkavat-ensi-viikolla/
LOCATION:Café Carusel\, Merisatamanranta 10\, Helsinki\, 00150\, Suomi
ATTACH;FMTTYPE=image/jpeg:https://perinnejazz.fi/wp-content/uploads/2023/08/assb.jpg
END:VEVENT
END:VCALENDAR