BEGIN:VCALENDAR
VERSION:2.0
PRODID:-//perinnejazz.fi - ECPv6.15.5//NONSGML v1.0//EN
CALSCALE:GREGORIAN
METHOD:PUBLISH
X-ORIGINAL-URL:https://perinnejazz.fi
X-WR-CALDESC:Tapahtumat perinnejazz.fi
REFRESH-INTERVAL;VALUE=DURATION:PT1H
X-Robots-Tag:noindex
X-PUBLISHED-TTL:PT1H
BEGIN:VTIMEZONE
TZID:Europe/Helsinki
BEGIN:DAYLIGHT
TZOFFSETFROM:+0200
TZOFFSETTO:+0300
TZNAME:EEST
DTSTART:20230326T010000
END:DAYLIGHT
BEGIN:STANDARD
TZOFFSETFROM:+0300
TZOFFSETTO:+0200
TZNAME:EET
DTSTART:20231029T010000
END:STANDARD
END:VTIMEZONE
BEGIN:VEVENT
DTSTART;TZID=Europe/Helsinki:20230609T183000
DTEND;TZID=Europe/Helsinki:20230609T203000
DTSTAMP:20260421T045431
CREATED:20230127T145428Z
LAST-MODIFIED:20230401T085427Z
UID:6349-1686335400-1686342600@perinnejazz.fi
SUMMARY:Spirit of New Orleans feat. Leroy Jones
DESCRIPTION:Riitta Paakki (vas.)\, Teemu Keränen\, Leroy Jones\, Mikko Hassinen ja Katja Toivola \nVapaa pääsy \n 
URL:https://perinnejazz.fi/tapahtuma/spirit-of-new-orleans-feat-leroy-jones/
LOCATION:Café Carusel\, Merisatamanranta 10\, Helsinki\, 00150\, Suomi
ATTACH;FMTTYPE=image/jpeg:https://perinnejazz.fi/wp-content/uploads/2022/05/sono.jpg
END:VEVENT
BEGIN:VEVENT
DTSTART;TZID=Europe/Helsinki:20230616T183000
DTEND;TZID=Europe/Helsinki:20230616T203000
DTSTAMP:20260421T045431
CREATED:20230413T162550Z
LAST-MODIFIED:20230414T065907Z
UID:6933-1686940200-1686947400@perinnejazz.fi
SUMMARY:Tribute to New Orleans (muuttunut päivä)
DESCRIPTION:Reine Rimón & Her Hot Papas\, Alpo Collanus\, Matti Iiramo\, Shane McKenzie\, Robi DeGodzinsky\, Kimmo Leppälä\, Jukka Järvelä \nVapaa pääsy
URL:https://perinnejazz.fi/tapahtuma/tribute-to-new-orleans-muuttunut-paiva/
LOCATION:Café Carusel\, Merisatamanranta 10\, Helsinki\, 00150\, Suomi
ATTACH;FMTTYPE=image/jpeg:https://perinnejazz.fi/wp-content/uploads/2023/04/rr-hp.jpg
END:VEVENT
END:VCALENDAR