BEGIN:VCALENDAR
VERSION:2.0
PRODID:-//perinnejazz.fi - ECPv6.15.5//NONSGML v1.0//EN
CALSCALE:GREGORIAN
METHOD:PUBLISH
X-WR-CALNAME:perinnejazz.fi
X-ORIGINAL-URL:https://perinnejazz.fi
X-WR-CALDESC:Tapahtumat perinnejazz.fi
REFRESH-INTERVAL;VALUE=DURATION:PT1H
X-Robots-Tag:noindex
X-PUBLISHED-TTL:PT1H
BEGIN:VTIMEZONE
TZID:Europe/Helsinki
BEGIN:DAYLIGHT
TZOFFSETFROM:+0200
TZOFFSETTO:+0300
TZNAME:EEST
DTSTART:20230326T010000
END:DAYLIGHT
BEGIN:STANDARD
TZOFFSETFROM:+0300
TZOFFSETTO:+0200
TZNAME:EET
DTSTART:20231029T010000
END:STANDARD
END:VTIMEZONE
BEGIN:VEVENT
DTSTART;TZID=Europe/Helsinki:20230502T190000
DTEND;TZID=Europe/Helsinki:20230502T220000
DTSTAMP:20260421T064332
CREATED:20230202T060000Z
LAST-MODIFIED:20230202T060000Z
UID:6400-1683054000-1683064800@perinnejazz.fi
SUMMARY:DDT Jazzband
DESCRIPTION:Rautatientorin laidalla sijaitsevassa On The Rocks-ravintolassa tanssitaan ja nautitaan tasokkaasta live-jazzista neljänä tiistai-iltana toukokuulle saakka. \nLiput 17e / 12e Suomen Perinnejazz ry:n jäsenille: Tiketti.fi tästä\nLiput myös ovelta 17e / 12 e mikäli jäljellä! Saadaksesi jäsenalennuksen ovelta näytä Jazz-jäsenpinssisi ja kerro olevasi Suomen Perinnejazz ry:n jäsen. \n 
URL:https://perinnejazz.fi/tapahtuma/ddt-jazzband/
LOCATION:On The Rock´s\, Mikonkatu 15\, Helsinki\, 00100\, Suomi
ATTACH;FMTTYPE=image/jpeg:https://perinnejazz.fi/wp-content/uploads/2019/09/ddt18.jpg
END:VEVENT
BEGIN:VEVENT
DTSTART;TZID=Europe/Helsinki:20230517T173000
DTEND;TZID=Europe/Helsinki:20230517T220000
DTSTAMP:20260421T064332
CREATED:20230115T154640Z
LAST-MODIFIED:20230503T073909Z
UID:6241-1684344600-1684360800@perinnejazz.fi
SUMMARY:Swing Memories Orkesteri - Anne Jääskeläinen (voc)\,
DESCRIPTION:Elokuva Barbeque Jazz Band voc Erja Uitto ja Jussi Raittinen.\nTuottaja Juha Nevalainen. 17.30 – 19.00. \nBändi: Swing Memories Orkesteri 19.00 – 21.00 \nSwing Memories Orkesteri: Anne Jääskeläinen (voc)\, Risto Oinaala (tp)\, Jarmo Karamäki (ts)\, Jarmo Nissinen (g) Jaakko Rinne (pno)\, Lauri Lyytinen (b)\, Esko Reivinen (drm). \nKaikille vapaat jamit klo 21.00 -22.00 \n\n		\n		\n			\n				\n			\n				\n				Risto Oinaala\n				\n			\n				\n			\n				\n				Jarmo Karamäki\n				\n			\n				\n			\n				\n				Jarmo Nissinen\n				\n			\n				\n			\n				\n				Jaakko Rinne\n				\n			\n				\n			\n				\n				Lauri Lyytinen  \n				\n			\n				\n			\n				\n				Esko Reivinen  \n				\n		\n\nPerinnejazzia\, swingejä ja lattareita kaukaisilta vuosikymmeniltä viime vuosisadalta. \nLue Annesta ja Swing Memories Orkesterista lisää TÄSTÄ \n 
URL:https://perinnejazz.fi/tapahtuma/helatorstain-aatto/
LOCATION:Ravintola Nyyrikki\, Pohjolankatu 2\, Helsinki\, 00610\, Suomi
ATTACH;FMTTYPE=image/jpeg:https://perinnejazz.fi/wp-content/uploads/2022/03/jr-drb-anna-jaaskelainen.jpg
END:VEVENT
BEGIN:VEVENT
DTSTART;TZID=Europe/Helsinki:20230530T150000
DTEND;TZID=Europe/Helsinki:20230530T163000
DTSTAMP:20260421T064332
CREATED:20230227T044522Z
LAST-MODIFIED:20230504T064002Z
UID:6636-1685458800-1685464200@perinnejazz.fi
SUMMARY:SPJ ry:n vuosikokous 2023 kalenteriin
DESCRIPTION:Kuvassa vuosikokouksen 2022 osanottajia \nSuomen PerinneJazz ry:n sääntömääräinen vuosikokous pidetään ti 30.5.2023 klo 15.00 Merilampi Oy\, Keskuskatu 7\, 00100 Helsinki \nYhdistyksen vuosikokouksessa käsitellään seuraavat asiat:\n1. kokouksen avaus\n2. valitaan kokouksen puheenjohtaja\, sihteeri\, kaksi pöytäkirjantarkastajaa ja tarvittaessa\nkaksi ääntenlaskijaa\n3. todetaan kokouksen laillisuus ja päätösvaltaisuus\n4. hyväksytään kokouksen esityslista\n5. esitetään tilinpäätös\, vuosikertomus ja toiminnantarkastajan tai tilintarkastajan lausunto\n6. päätetään tilinpäätöksen vahvistamisesta ja vastuuvapauden myöntämisestä hallitukselle ja\nmuille vastuuvelvollisille\n7. vahvistetaan toimintasuunnitelma\, tulo- ja menoarvio sekä liittymis- ja jäsenmaksujen\nsuuruudet\n8. valitaan hallituksen puheenjohtaja ja muut jäsenet\n9. valitaan yksi (1)toiminnantarkastaja ja yksi (1) varatoiminnantarkastaja tai\nvaihtoehtoisesti yksi (1) tilintarkastaja ja yksi (1) varatilintarkastaja.\n10. käsitellään muut kokouskutsussa mainitut asiat.\nMikäli yhdistyksen jäsen haluaa saada jonkin asian yhdistyksen vuosikokouksen käsiteltäväksi\,\non hänen ilmoitettava siitä kirjallisesti hallitukselle niin hyvissä ajoin\, että asia voidaan sisällyttää kokouskutsuun.
URL:https://perinnejazz.fi/tapahtuma/spj-ryn-vuosikokous-2023-kalenteriin/
ATTACH;FMTTYPE=image/jpeg:https://perinnejazz.fi/wp-content/uploads/2023/02/spj_vk_2022.jpg
END:VEVENT
END:VCALENDAR