BEGIN:VCALENDAR
VERSION:2.0
PRODID:-//perinnejazz.fi - ECPv6.15.5//NONSGML v1.0//EN
CALSCALE:GREGORIAN
METHOD:PUBLISH
X-ORIGINAL-URL:https://perinnejazz.fi
X-WR-CALDESC:Tapahtumat perinnejazz.fi
REFRESH-INTERVAL;VALUE=DURATION:PT1H
X-Robots-Tag:noindex
X-PUBLISHED-TTL:PT1H
BEGIN:VTIMEZONE
TZID:Europe/Helsinki
BEGIN:DAYLIGHT
TZOFFSETFROM:+0200
TZOFFSETTO:+0300
TZNAME:EEST
DTSTART:20230326T010000
END:DAYLIGHT
BEGIN:STANDARD
TZOFFSETFROM:+0300
TZOFFSETTO:+0200
TZNAME:EET
DTSTART:20231029T010000
END:STANDARD
END:VTIMEZONE
BEGIN:VEVENT
DTSTART;TZID=Europe/Helsinki:20230310T183000
DTEND;TZID=Europe/Helsinki:20230310T203000
DTSTAMP:20260421T100847
CREATED:20230127T142848Z
LAST-MODIFIED:20230127T150237Z
UID:6334-1678473000-1678480200@perinnejazz.fi
SUMMARY:Tribute to Nancy Wilson/Cannonball Adderley
DESCRIPTION:Muusikot: \nAnna Inginmaa\, laulu\nManuel Dunkel\, alttosaksofoni\nJoonas Tuuri\, kontrabasso\,\nArto Ikävalko\, piano\nVille Luukkonen\, rummut \nVapaa pääsy
URL:https://perinnejazz.fi/tapahtuma/tribute-to-nancy-wilson-cannonball-adderley/
LOCATION:Café Carusel\, Merisatamanranta 10\, Helsinki\, 00150\, Suomi
ATTACH;FMTTYPE=image/jpeg:https://perinnejazz.fi/wp-content/uploads/2021/10/anna-inginmaa1.jpg
END:VEVENT
BEGIN:VEVENT
DTSTART;TZID=Europe/Helsinki:20230314T190000
DTEND;TZID=Europe/Helsinki:20230314T220000
DTSTAMP:20260421T100847
CREATED:20230202T054547Z
LAST-MODIFIED:20230202T060343Z
UID:6396-1678820400-1678831200@perinnejazz.fi
SUMMARY:Birger’s Ragtime Band voc Carolina Wendelin
DESCRIPTION:Kuvassa Birger Lindström \nTuesday Night Hop-swingtanssiklubilla Helsingin Rautatientorin laidalla sijaitsevassa On The Rocks-ravintolassa tanssitaan ja nautitaan tasokkaasta live-jazzista neljänä tiistai-iltana toukokuulle saakka \nLiput 17e / 12e Suomen Perinnejazz ry:n jäsenille: Tiketti.fi tästä\nLiput myös ovelta 17e / 12 e mikäli jäljellä! Saadaksesi jäsenalennuksen ovelta näytä Jazz-jäsenpinssisi ja kerro olevasi Suomen Perinnejazz ry:n jäsen.
URL:https://perinnejazz.fi/tapahtuma/birgers-ragtime-band-voc-carolina-wendelin-2/
LOCATION:On The Rock´s\, Mikonkatu 15\, Helsinki\, 00100\, Suomi
ATTACH;FMTTYPE=image/jpeg:https://perinnejazz.fi/wp-content/uploads/2020/02/bl.jpg
END:VEVENT
BEGIN:VEVENT
DTSTART;TZID=Europe/Helsinki:20230315T173000
DTEND;TZID=Europe/Helsinki:20230315T220000
DTSTAMP:20260421T100847
CREATED:20230115T155015Z
LAST-MODIFIED:20230309T024045Z
UID:6233-1678901400-1678917600@perinnejazz.fi
SUMMARY:Kimmo Leppälä Quartet voc Alex Ikonen
DESCRIPTION:Kimmo Leppälä Quartet: Alex Ikonen (voc)\, Kimmo Leppälä (cl\,sax)\, Robi de Godzinsky (pno) \, Ilkka Leppälä (s-bas)\, Ari Ikonen (dr) ;\nSinatran klassikoita\, Nat King Colen tunnelmia\, Bubleen swengiä.\nElokuva: Barbeque Jazz Band Taavetin valleilla.
URL:https://perinnejazz.fi/tapahtuma/kimmo-leppala-quartet-voc-alex-ikonen/
LOCATION:Ravintola Nyyrikki\, Pohjolankatu 2\, Helsinki\, 00610\, Suomi
ATTACH;FMTTYPE=image/jpeg:https://perinnejazz.fi/wp-content/uploads/2023/01/kim-lep-2.jpg
END:VEVENT
END:VCALENDAR