BEGIN:VCALENDAR
VERSION:2.0
PRODID:-//perinnejazz.fi - ECPv6.15.5//NONSGML v1.0//EN
CALSCALE:GREGORIAN
METHOD:PUBLISH
X-ORIGINAL-URL:https://perinnejazz.fi
X-WR-CALDESC:Tapahtumat perinnejazz.fi
REFRESH-INTERVAL;VALUE=DURATION:PT1H
X-Robots-Tag:noindex
X-PUBLISHED-TTL:PT1H
BEGIN:VTIMEZONE
TZID:Europe/Helsinki
BEGIN:DAYLIGHT
TZOFFSETFROM:+0200
TZOFFSETTO:+0300
TZNAME:EEST
DTSTART:20230326T010000
END:DAYLIGHT
BEGIN:STANDARD
TZOFFSETFROM:+0300
TZOFFSETTO:+0200
TZNAME:EET
DTSTART:20231029T010000
END:STANDARD
END:VTIMEZONE
BEGIN:VEVENT
DTSTART;TZID=Europe/Helsinki:20230207T190000
DTEND;TZID=Europe/Helsinki:20230207T220000
DTSTAMP:20260421T114724
CREATED:20230202T060422Z
LAST-MODIFIED:20230202T060422Z
UID:6384-1675796400-1675807200@perinnejazz.fi
SUMMARY:Antti Sarpila Swing Band
DESCRIPTION:Antti Sarpila Swing Band Tuesday Night Hop-swingtanssiklubi On The Rocksissa \nLiput 17e / 12e Suomen Perinnejazz ry:n jäsenille: Tiketti.fi tästä\nLiput myös ovelta 17e / 12 e mikäli jäljellä! Saadaksesi jäsenalennuksen ovelta näytä Jazz-jäsenpinssisi ja kerro olevasi Suomen Perinnejazz ry:n jäsen. \nOn The Rocks\nMikonkatu 15\n00100 Helsinki\nwww.rocks.fi
URL:https://perinnejazz.fi/tapahtuma/antti-sarpila-swing-band/
LOCATION:On The Rock´s\, Mikonkatu 15\, Helsinki\, 00100\, Suomi
ATTACH;FMTTYPE=image/jpeg:https://perinnejazz.fi/wp-content/uploads/2022/10/as2-e1727168410191.jpg
END:VEVENT
BEGIN:VEVENT
DTSTART;TZID=Europe/Helsinki:20230210T183000
DTEND;TZID=Europe/Helsinki:20230210T203000
DTSTAMP:20260421T114724
CREATED:20230119T090832Z
LAST-MODIFIED:20230124T103809Z
UID:6289-1676053800-1676061000@perinnejazz.fi
SUMMARY:Perkiömäki-Niittynen-Mikkola-Heinola
DESCRIPTION:Lue lisää Jazzrytmeistä.
URL:https://perinnejazz.fi/tapahtuma/perkiomaki-niittynen/
LOCATION:Café Carusel\, Merisatamanranta 10\, Helsinki\, 00150\, Suomi
ATTACH;FMTTYPE=image/jpeg:https://perinnejazz.fi/wp-content/uploads/2023/01/Dia1-002.jpg
END:VEVENT
BEGIN:VEVENT
DTSTART;TZID=Europe/Helsinki:20230215T173000
DTEND;TZID=Europe/Helsinki:20230215T220000
DTSTAMP:20260421T114724
CREATED:20230115T154938Z
LAST-MODIFIED:20230210T081852Z
UID:6230-1676482200-1676498400@perinnejazz.fi
SUMMARY:Corville Band
DESCRIPTION:Elokuva Pertti Metsärinteen 85v juhlakonsertti osa 2. tuottaja Juha Nevalainen\nIllan bändi: Corville Band \n\n		\n		\n			\n				\n			\n				\n				Robi de Godzinsky KUVA Jaakko Rinne\n				\n			\n				\n			\n				\n				Ilkka Hanski\n				\n			\n				\n			\n				\n				Mikko Virto\n				\n			\n				\n			\n				\n				Jarmo Karamäki\n				\n		\n\nRobi de Godzinsky piano\nIlkka Hanski basso\nMikko Virto rummut\nIlkka Virto tbone\, tp\, voc (artikkelikuvassa)\nJarmo Karamäki saksofonit
URL:https://perinnejazz.fi/tapahtuma/corville-band-voc-teppo-salakka/
LOCATION:Ravintola Nyyrikki\, Pohjolankatu 2\, Helsinki\, 00610\, Suomi
ATTACH;FMTTYPE=image/jpeg:https://perinnejazz.fi/wp-content/uploads/2021/11/il-vir.jpg
END:VEVENT
BEGIN:VEVENT
DTSTART;TZID=Europe/Helsinki:20230218T190000
DTEND;TZID=Europe/Helsinki:20230218T213000
DTSTAMP:20260421T114724
CREATED:20221212T144158Z
LAST-MODIFIED:20230111T133300Z
UID:6030-1676746800-1676755800@perinnejazz.fi
SUMMARY:Suurta Pelimannia muistellaan - TILAISUUS LOPPUUNMYYTY!
DESCRIPTION:Pentti Lasasen (1936–2021) oli monipuolisuudessaan verraton muusikko\, kulttuurielämämme analyyttisin ja kunnollisin boheemi. Hänen elämäntyötään muistelemme ja taiteellista perintöään vaalimme Helsingin Suomalaisella Klubilla la 18.2.2023 klo 19.00. \nIllan orkesterin jäsenet ovat Pentin soittokavereita ja ystäviä vuosikymmenien takaa: Antti Sarpila\, Pekka Toivanen\, Seppo Hovi\, Wade Mikkola\, vävypoika Kepa Kettunen ja laulusolistina tytär Minna Lasanen (art.kuvassa). \n\n		\n		\n			\n				\n			\n				\n				Antti Sarpila\n				\n			\n				\n			\n				\n				Pekka Toivanen\n				\n			\n				\n			\n				\n				Seppo Hovi\n				\n			\n				\n			\n				\n				Wade Mikkola\n				\n			\n				\n			\n				\n				Kepa Kettunen\n				\n		\n\nPentin muistokirjoitus ”Populaarimusiikin ja perinnejazzin merkittävä toimija on kuollut” 13.3.2021 Jazzrytmit on TÄSSÄ \nTervetuloa perinnejazzin sykkeeseen kartuttamaan illallismaksun myötä Pentti Lasasen muistorahaston stipendivaroja nuorten lahjakkuuksien tueksi. \n11.1.2023: TILAISUUS LOPPUUNMYYTY! Valitettavasti emme voi ottaa lisää varauksia. Peruutuspaikkoja voi tiedustella Matti Vataselta puh: 050-65697. \nTilaisuuteen ilmoittaudutaan maksamalla illalliskortti 120€ /hlö etukäteen Suomen PerinneJazz ry:n tilille:  FI37 1745 3000 1479 93.  \nPankkisiirtoon viesti: “Pentti Lasanen”. Mikäli maksajana on firma\, asiakas ilmoittaa sen tullessaan ravintolaan tai maksajan nimen\, jos samalla pankkisiirrolla maksetaan useampia illalliskortteja. Ilmoita viestissä myös puhelinnumerosi. \nLämpiö / baari aukeaa klo 18.00\, tilaisuus alkaa klo 19.00
URL:https://perinnejazz.fi/tapahtuma/suurta-pelimannia-muistellaan/
LOCATION:Suomalainen Klubi\, Kansakoulukuja 3 A\, Helsinki\, Suomi
ATTACH;FMTTYPE=image/jpeg:https://perinnejazz.fi/wp-content/uploads/2021/04/lasaset-lpr-2017-johannes-pentti-minna.jpg
END:VEVENT
BEGIN:VEVENT
DTSTART;TZID=Europe/Helsinki:20230222T190000
DTEND;TZID=Europe/Helsinki:20230223T213000
DTSTAMP:20260421T114724
CREATED:20221210T040234Z
LAST-MODIFIED:20221210T060050Z
UID:6014-1677092400-1677187800@perinnejazz.fi
SUMMARY:Kuopio Winter Jazz by Genelec
DESCRIPTION:Ohjelma:  \nKe 22.2. King´s Crown klo 19.00–22.00. ”Tomi Kämäräisen Jatsahtavat Jamit” –   Quadruple Trouble & CJSQ. \nTo 23.2. Lumit näyttämö klo 15.00–16.30 Seppo Hovi: ”Tarinaa rytmimusiikkimme ja sen opettamisen vaiheista”\, tarkoitettu kuopiolaisille musiikinopiskelijoille ja opettajille. \nTo 23.2. Lumit näyttämö klo 19.00–21.30 Pääkonsertti ”The Story of Jazz”\, Savonia Jazz Workshop ja Classic Jazz Society Quintet. \nKonsertit juontaa: Seppo Hovi \nOSTA LIPUT \nLue lisää TÄSTÄ
URL:https://perinnejazz.fi/tapahtuma/kuopio-winter-jazz-by-genelec/
ATTACH;FMTTYPE=image/jpeg:https://perinnejazz.fi/wp-content/uploads/2022/12/kwj-1000.jpg
END:VEVENT
END:VCALENDAR