BEGIN:VCALENDAR
VERSION:2.0
PRODID:-//perinnejazz.fi - ECPv6.15.5//NONSGML v1.0//EN
CALSCALE:GREGORIAN
METHOD:PUBLISH
X-WR-CALNAME:perinnejazz.fi
X-ORIGINAL-URL:https://perinnejazz.fi
X-WR-CALDESC:Tapahtumat perinnejazz.fi
REFRESH-INTERVAL;VALUE=DURATION:PT1H
X-Robots-Tag:noindex
X-PUBLISHED-TTL:PT1H
BEGIN:VTIMEZONE
TZID:Europe/Helsinki
BEGIN:DAYLIGHT
TZOFFSETFROM:+0200
TZOFFSETTO:+0300
TZNAME:EEST
DTSTART:20210328T010000
END:DAYLIGHT
BEGIN:STANDARD
TZOFFSETFROM:+0300
TZOFFSETTO:+0200
TZNAME:EET
DTSTART:20211031T010000
END:STANDARD
END:VTIMEZONE
BEGIN:VEVENT
DTSTART;TZID=Europe/Helsinki:20210210T180000
DTEND;TZID=Europe/Helsinki:20210210T180000
DTSTAMP:20260423T035635
CREATED:20201016T105623Z
LAST-MODIFIED:20201016T105957Z
UID:2356-1612980000-1612980000@perinnejazz.fi
SUMMARY:Café Caruselin syyskauden tilaisuudet PERUTTU
DESCRIPTION:Valitettavasti kaikki Suomen PerinneJazz ry:n syksyn tilaisuudet Café Caruselissa on peruttu kiristyneen koronaepidemian takia. Jatkamme ensi vuonna tilanteen mukaan.\nSyysterveisin!\nPepe Teirikari
URL:https://perinnejazz.fi/tapahtuma/cafe-caruselin-syyskauden-tilaisuudet-peruttu/
LOCATION:Café Carusel\, Merisatamanranta 10\, Helsinki\, 00150\, Suomi
ATTACH;FMTTYPE=image/jpeg:https://perinnejazz.fi/wp-content/uploads/2020/10/carusel.jpg
END:VEVENT
END:VCALENDAR