BEGIN:VCALENDAR
VERSION:2.0
PRODID:-//perinnejazz.fi - ECPv6.15.5//NONSGML v1.0//EN
CALSCALE:GREGORIAN
METHOD:PUBLISH
X-ORIGINAL-URL:https://perinnejazz.fi
X-WR-CALDESC:Tapahtumat perinnejazz.fi
REFRESH-INTERVAL;VALUE=DURATION:PT1H
X-Robots-Tag:noindex
X-PUBLISHED-TTL:PT1H
BEGIN:VTIMEZONE
TZID:Europe/Helsinki
BEGIN:DAYLIGHT
TZOFFSETFROM:+0200
TZOFFSETTO:+0300
TZNAME:EEST
DTSTART:20200329T010000
END:DAYLIGHT
BEGIN:STANDARD
TZOFFSETFROM:+0300
TZOFFSETTO:+0200
TZNAME:EET
DTSTART:20201025T010000
END:STANDARD
END:VTIMEZONE
BEGIN:VEVENT
DTSTART;TZID=Europe/Helsinki:20200415T180000
DTEND;TZID=Europe/Helsinki:20200415T203000
DTSTAMP:20260423T204532
CREATED:20200211T163359Z
LAST-MODIFIED:20200313T145453Z
UID:1745-1586973600-1586982600@perinnejazz.fi
SUMMARY:Huom! - TAPAHTUMA PERUTTU
DESCRIPTION:Charlotta Kerbs on herättänyt ansaittua suosiota elävällä ja luontevan taidokkaalla laulutaidollaan erilaisten musiikinlajien parissa. Oli sitten kyseessä afrikkalainen\, kuubalainen tai amerikkalainen musiikki\, hänen tulkintansa ovat hienosti henkilökohtaisia. Café Caruselin jazz-illassa on käsiteltävänä alueena tietenkin svengaava jazz ja saamme kuulla Charlotan hienoja tulkintoja jazzmusiikin klassikoista. \nSäestävässä triossa saamme pitkästä aikaa kuulla äskettäin jazzmusiikin tohtoriksi kruunattua hienoa pianistia\, Riitta Paakkia\, joka on usein toiminut pianistina Wade Mikkolan triossa. Paakin ja Mikkolan svengaavan rytmityksen varmistaa dynaamisen rummutuksen mestari\, Heikki Sandrén! \nWade Mikkola \nAtro ”Wade” Mikkola (s. 1956) sai sieluunsa jazzkipinän 13-vuotiaana ja kävi hakemassa oppia Yhdysvalloista ensimmäisen kerran jo 1970-luvun lopulla\, pian ylioppilaaksi kirjoitettuaan. Kokemus oli antoisa\, sillä vuonna 1984 Mikkola muutti Yhdysvaltoihin ja aloitti jazzopinnot Massachusettsin yliopistossa. Basso- ja sävellystuntien lisäksi taidot karttuivat keikoilla\, esimerkiksi Archie Sheppin kanssa. Vuodet 1993-97 Mikkola asui New Yorkissa ja hankki elantonsa ammattimuusikkona. Debyyttilevy yhtyeenjohtajana syntyi myös New Yorkissa\, mikä osoitti basistin kyvyt sujuvien jazzkappaleiden tekijänä. \nSuomeen palattuaan Mikkola alkoi esiintyä aktiivisesti maamme jazzkentällä ja toimi heti myös tuntiopettajana sekä Pop & Jazz Konservatoriossa että Sibelius-Akatemiassa\, missä hän opettaa edelleen. Ensimmäinen Suomessa tehty levy oli kotimaisia iskelmäklassikoita jazzversioina tarjonnut\, kvintettikokoonpanon kanssa tehty Muistatko… Remember (AMK 1999). Samoihin aikoihin basisti alkoi järjestää jazziltoja pääkaupunkiseudulla\, muun muassa Katajannokan  Poseidonissa. \n2000-luvulla Mikkola on järjestänyt jazziltoja muun muassa Ravintola Pianossa ja Kappelin Kellarissa\, joissa on suomalaisten muusikoiden lisäksi esiintynyt myös jonkin verran ulkomaisia vieraita. Vuonna 2006 ilmestyi jenkkilaulaja Mandy Gainesin kanssa tehyt jazzstandardilevy Taking a Change (AMK)\, jonka kvintetissä soitti Mikkolan lisäksi rivi suomalaisia huippujazzareita. Hyvää keikkatahtia ylläpitänyt basisti on heiluttanut amerikkalaisen jazzperinteen lippua myös aktiivisena keskustelijana sekä musiikkijärjestöläisenä esimerkiksi Freelancemuusikot ry:ssä sekä Jazzmuusikot ry:ssä. \nCharlotta Kerbs – laulu\, Riitta Paakki – piano\, Wade Mikkola – basso\, Heikki Sandrén – rummut \n\n		\n		\n			\n				\n			\n				\n				 Charlotta Kerbs\n				\n			\n				\n			\n				\n				Riitta Paakki\n				\n			\n				\n			\n				\n				Heikki Sandrén\n				\n		\n\nCafé Caruselin pöydät lähimpänä orkesteria ovat varattuja ruokailijoille.Suosittelemmekin ilallisen nauttimista bändi-illan aikana: Caruselin monipuoliselta ruokalistalta löytyy niin raikkaita salaatteja\, piiraita ja pikkulämpimiä\, keittoja sekä pizzoja (myös gluteenittomana). \nVapaa pääsy! \n 
URL:https://perinnejazz.fi/tapahtuma/charlotta-kerbs-wade-mikkola-trio/
LOCATION:Café Carusel\, Merisatamanranta 10\, Helsinki\, 00150\, Suomi
END:VEVENT
BEGIN:VEVENT
DTSTART;TZID=Europe/Helsinki:20200422T173000
DTEND;TZID=Europe/Helsinki:20200422T220000
DTSTAMP:20260423T204532
CREATED:20200211T164316Z
LAST-MODIFIED:20200414T080021Z
UID:1753-1587576600-1587592800@perinnejazz.fi
SUMMARY:Broadway feat. Mia Lundell - HUOM TAPAHTUMA PERUTTU
DESCRIPTION:– Broadway feat. Mia Lundell. Lyhytelokuva: ”VPK:n jamit 10-vuotta osa 2/2” \nKellonajat:\n– Leffa 17.30 – 18.30 (Illallinen Nyyrikki-salissa)\n– Houseband 19.00 – 21.00 (Iltapala ja juomat Iltatähden Baarista)\n– Jamit 21.00 – 22.00 (Juomat Baarista) \nVapaa pääsy. \nRavintola Nyyrikin Iltatähti\, Pohjolankatu 2\, 00610 Helsinki (Käpylä)\nwww.nyyrikki.net\, puhelin (09) 757 2299 \n 
URL:https://perinnejazz.fi/tapahtuma/broadway-feat-mia-lundell/
LOCATION:Ravintola Nyyrikki\, Pohjolankatu 2\, Helsinki\, 00610\, Suomi
CATEGORIES:Ravintola Nyyrikki
ATTACH;FMTTYPE=image/jpeg:https://perinnejazz.fi/wp-content/uploads/2019/11/Broadway-2015.jpg
END:VEVENT
END:VCALENDAR