BEGIN:VCALENDAR
VERSION:2.0
PRODID:-//perinnejazz.fi - ECPv6.15.5//NONSGML v1.0//EN
CALSCALE:GREGORIAN
METHOD:PUBLISH
X-ORIGINAL-URL:https://perinnejazz.fi
X-WR-CALDESC:Tapahtumat perinnejazz.fi
REFRESH-INTERVAL;VALUE=DURATION:PT1H
X-Robots-Tag:noindex
X-PUBLISHED-TTL:PT1H
BEGIN:VTIMEZONE
TZID:Europe/Helsinki
BEGIN:DAYLIGHT
TZOFFSETFROM:+0200
TZOFFSETTO:+0300
TZNAME:EEST
DTSTART:20190331T010000
END:DAYLIGHT
BEGIN:STANDARD
TZOFFSETFROM:+0300
TZOFFSETTO:+0200
TZNAME:EET
DTSTART:20191027T010000
END:STANDARD
END:VTIMEZONE
BEGIN:VEVENT
DTSTART;TZID=Europe/Helsinki:20191113T180000
DTEND;TZID=Europe/Helsinki:20191113T213000
DTSTAMP:20260424T043310
CREATED:20190916T142219Z
LAST-MODIFIED:20191029T092523Z
UID:884-1573668000-1573680600@perinnejazz.fi
SUMMARY:Jaska Harjula trio & Joonatan Rautio
DESCRIPTION:
URL:https://perinnejazz.fi/tapahtuma/jaska-harjula-trio-joonatan-rautio/
LOCATION:Café Carusel\, Merisatamanranta 10\, Helsinki\, 00150\, Suomi
CATEGORIES:Cafe Carusel
ATTACH;FMTTYPE=image/jpeg:https://perinnejazz.fi/wp-content/uploads/2019/10/kalenteri4.jpg
END:VEVENT
BEGIN:VEVENT
DTSTART;TZID=Europe/Helsinki:20191126T173000
DTEND;TZID=Europe/Helsinki:20191126T220000
DTSTAMP:20260424T043310
CREATED:20190916T142852Z
LAST-MODIFIED:20191126T075124Z
UID:902-1574789400-1574805600@perinnejazz.fi
SUMMARY:Brew44: Mirkakaarina & Lauri Seppo
DESCRIPTION:Syksyn Nyyrikin aikataulu: Iltatähden jazztilaisuudet alkaen klo 19\, vapaat jamit klo 21.00 – 22.00. Jami-isäntänä Jaska Harjula. Yläkerran Ravintola Nyyrikissä lyhytelokuvanäytös ennen jazzeja klo 17.30-18.30. Elokuvan aikana mahdollista nauttia illallinen.   Elokuvanäytöksenä: ”Soivat Saaret – Saaristolaismusiikkia”\, ensiesitys.
URL:https://perinnejazz.fi/tapahtuma/brew44-mirkakaarina-lauri-seppo/
LOCATION:Ravintola Nyyrikki\, Pohjolankatu 2\, Helsinki\, 00610\, Suomi
CATEGORIES:Jazz-tilaisuudet,Ravintola Nyyrikki
ATTACH;FMTTYPE=image/jpeg:https://perinnejazz.fi/wp-content/uploads/2019/09/Brew44_kesä2-e1582094165166.jpg
END:VEVENT
END:VCALENDAR