BEGIN:VCALENDAR
VERSION:2.0
PRODID:-//perinnejazz.fi - ECPv6.15.5//NONSGML v1.0//EN
CALSCALE:GREGORIAN
METHOD:PUBLISH
X-ORIGINAL-URL:https://perinnejazz.fi
X-WR-CALDESC:Tapahtumat perinnejazz.fi
REFRESH-INTERVAL;VALUE=DURATION:PT1H
X-Robots-Tag:noindex
X-PUBLISHED-TTL:PT1H
BEGIN:VTIMEZONE
TZID:Europe/Helsinki
BEGIN:DAYLIGHT
TZOFFSETFROM:+0200
TZOFFSETTO:+0300
TZNAME:EEST
DTSTART:20240331T010000
END:DAYLIGHT
BEGIN:STANDARD
TZOFFSETFROM:+0300
TZOFFSETTO:+0200
TZNAME:EET
DTSTART:20241027T010000
END:STANDARD
END:VTIMEZONE
BEGIN:VEVENT
DTSTART;TZID=Europe/Helsinki:20240210T180000
DTEND;TZID=Europe/Helsinki:20240210T220000
DTSTAMP:20260420T165343
CREATED:20231214T153722Z
LAST-MODIFIED:20231214T174359Z
UID:7759-1707588000-1707602400@perinnejazz.fi
SUMMARY:Sounds of Ronnie Kranck - Svengaava illallinen Suomalaisella Klubilla
DESCRIPTION:Illallista nauttien lähdemme la 10.2.2024 klo 19.00 Ronnie Kranckin  (1931-2014) yhtyeen jalanjäljille aidoin alkuperäisin sovituksin. Pentti Lasasta (1936-2021) muistellen svengaillaan Hiittisten legendaaristen perinnejazziltojen malliin. Ja teidän tuellanne kartutetaan hänen nimikkorahastoaan\, josta yksi stipendi ojennetaan tuona iltana. \nKvintettimme Antti Sarpila (cl/sax)\, Wade Mikkola (bass)\, Jarza Karvonen (drs)\, Pekka Toivanen (sax/cl) ja Seppo Hovi (pno) laajenee jazzhanurin mestarin Mika Huusarin ja UMO:n palkitun trumpetisti Timo Paasosen myötä täyteläisen soinnin swingorkesteriksi. Seppo Hovi tarinoi tuttuun tapaan flyygelin äärellä. \nMisty\, Splanky\, Take the A train …. melodiaa\,sykettä\, muistoja…. \nILMOITTAUTUMINEN: Tilaisuuteen ilmoittaudutaan maksamalla illalliskortti 120€ /hlö etukäteen Suomen PerinneJazz ry:n tilille: FI37 1745 3000 1479 93\, viestikenttään JAZZ\, lisätietoja Matti Vatanen\, puhelin 050-656 97. \nHUOM Paikat varataan ilmoittautumisjärjestyksessä\, aikaisempina vuosina vastaava tilaisuus on ollut aina loppuunmyyty. \nLämpiö / baari aukeaa klo 18.00\, tilaisuus alkaa klo 19.00
URL:https://perinnejazz.fi/tapahtuma/sounds-of-ronnie-kranck-svengaava-illallinen-suomalaisella-klubilla/
LOCATION:Suomalainen Klubi\, Kansakoulukuja 3 A\, Helsinki\, Suomi
ATTACH;FMTTYPE=image/jpeg:https://perinnejazz.fi/wp-content/uploads/2023/12/1024px-Ronniekrancinyhtye.jpg
END:VEVENT
END:VCALENDAR