BEGIN:VCALENDAR
VERSION:2.0
PRODID:-//perinnejazz.fi - ECPv6.15.5//NONSGML v1.0//EN
CALSCALE:GREGORIAN
METHOD:PUBLISH
X-WR-CALNAME:perinnejazz.fi
X-ORIGINAL-URL:https://perinnejazz.fi
X-WR-CALDESC:Tapahtumat perinnejazz.fi
REFRESH-INTERVAL;VALUE=DURATION:PT1H
X-Robots-Tag:noindex
X-PUBLISHED-TTL:PT1H
BEGIN:VTIMEZONE
TZID:Europe/Helsinki
BEGIN:DAYLIGHT
TZOFFSETFROM:+0200
TZOFFSETTO:+0300
TZNAME:EEST
DTSTART:20240331T010000
END:DAYLIGHT
BEGIN:STANDARD
TZOFFSETFROM:+0300
TZOFFSETTO:+0200
TZNAME:EET
DTSTART:20241027T010000
END:STANDARD
END:VTIMEZONE
BEGIN:VEVENT
DTSTART;TZID=Europe/Helsinki:20240117T190000
DTEND;TZID=Europe/Helsinki:20240117T210000
DTSTAMP:20260420T184329
CREATED:20231213T034322Z
LAST-MODIFIED:20231213T034322Z
UID:7724-1705518000-1705525200@perinnejazz.fi
SUMMARY:The Great Helsinki Swing Big Band: Swingin’ the Opera
DESCRIPTION:Konserttikokonaisuus koostuu Antti Sarpilan big bandille sovittamista oopperamusiikin helmistä sekä balettimusiikin klassikoista. \nAntti Sarpila KUVA Harri Virta \nSäveltäjänimiä ovat George Bizet\, Giacomo Puccini\, Charles Gounod\, Giuseppe Verdi\, Ruggero Leoncavallo ja Pjotr Tchaikovsky. \nOopperoista jazzkäsittelyn saavat Carmen\, Tosca\, Faust\, Aida\, Pajatso\, Jevgeni Onegin ja Turandot sekä baleteista Pähkinänsärkijä\, Joutsenlampi ja Prinsessa Ruusunen. \nKaikille tutut kuolemattomat melodiat saavuttavat uusia ulottuvuuksia\, kun ne soitetaan swingin kulta-ajan isojen orkestereiden tyyliin. \nMalmisali\, Ala-Malmin tori 1\, Helsinki\nLiput: 22 € / 14\,50 €  TÄSTÄ
URL:https://perinnejazz.fi/tapahtuma/the-great-helsinki-swing-big-band-swingin-the-opera/
LOCATION:Malmitalo\, Ala-Malmin tori 1\, Helsinki\, 00700
ATTACH;FMTTYPE=image/jpeg:https://perinnejazz.fi/wp-content/uploads/2023/12/The-Great-Helsinki-Swing-Big-Band.jpg
END:VEVENT
END:VCALENDAR