BEGIN:VCALENDAR
VERSION:2.0
PRODID:-//perinnejazz.fi - ECPv6.15.5//NONSGML v1.0//EN
CALSCALE:GREGORIAN
METHOD:PUBLISH
X-ORIGINAL-URL:https://perinnejazz.fi
X-WR-CALDESC:Tapahtumat perinnejazz.fi
REFRESH-INTERVAL;VALUE=DURATION:PT1H
X-Robots-Tag:noindex
X-PUBLISHED-TTL:PT1H
BEGIN:VTIMEZONE
TZID:Europe/Helsinki
BEGIN:DAYLIGHT
TZOFFSETFROM:+0200
TZOFFSETTO:+0300
TZNAME:EEST
DTSTART:20230326T010000
END:DAYLIGHT
BEGIN:STANDARD
TZOFFSETFROM:+0300
TZOFFSETTO:+0200
TZNAME:EET
DTSTART:20231029T010000
END:STANDARD
END:VTIMEZONE
BEGIN:VEVENT
DTSTART;TZID=Europe/Helsinki:20231209T150000
DTEND;TZID=Europe/Helsinki:20231209T173000
DTSTAMP:20260420T200914
CREATED:20231025T160751Z
LAST-MODIFIED:20231025T160751Z
UID:7524-1702134000-1702143000@perinnejazz.fi
SUMMARY:Swinging Christmas 2023 - Antti Sarpila Swing Band
DESCRIPTION:Klarinetisti Antti Sarpila on julistanut swingbändinsä kanssa jazzväen ”virallisen joulun” Suomen Helsingissä jo vuodesta 2002 alkaen. Tämänvuotinen joulukonsertti pidetään la 9.12.2023 klo 15.00 Savoy-teatterissa. Jouluinen svengaava meno vaihtelee vauhdikkaasta herkkään.  Solistivieraana on vuoden 2022 Tangokuningatar Heta Halonen tällä kertaa jazzillisissa tunnelmissa. \nHeta Halonen \nHeta on pop/jazzlaulun opettaja\, musiikkipedagogi\, näyttelijä ja laulaja. Raumalla syntynyt tangokuningatar muutti Poriin perheensä kanssa viiden vanhana. Heta on ollut vierailevana näyttelijänä Porin teatterissa ja näytellyt siellä mm. pääroolin Harmony Sisters -musikaalissa. \nAntti Sarpila Swing Band: Antti Sarpila cl / sax\, Janne Hovi piano\, Wade Mikkola bass ja Kepa Kettunen drums sekä Heta Halonen laulu. \nPääsyliput alkaen 36\,50 € TÄSTÄ\nKesto n. 2\,5 h\, sisältää väliajan \nSavoy-teatterin Sali\, Kasarmikatu 46–48\, Helsinki
URL:https://perinnejazz.fi/tapahtuma/swinging-christmas-2023-antti-sarpila-swing-band/
LOCATION:Savoy Teatteri\, Eteläesplanadi 14\, Helsinki\, 00100\, Suomi
ATTACH;FMTTYPE=image/jpeg:https://perinnejazz.fi/wp-content/uploads/2023/10/assb-1.jpg
END:VEVENT
END:VCALENDAR