BEGIN:VCALENDAR
VERSION:2.0
PRODID:-//perinnejazz.fi - ECPv6.15.5//NONSGML v1.0//EN
CALSCALE:GREGORIAN
METHOD:PUBLISH
X-ORIGINAL-URL:https://perinnejazz.fi
X-WR-CALDESC:Tapahtumat perinnejazz.fi
REFRESH-INTERVAL;VALUE=DURATION:PT1H
X-Robots-Tag:noindex
X-PUBLISHED-TTL:PT1H
BEGIN:VTIMEZONE
TZID:Europe/Helsinki
BEGIN:DAYLIGHT
TZOFFSETFROM:+0200
TZOFFSETTO:+0300
TZNAME:EEST
DTSTART:20230326T010000
END:DAYLIGHT
BEGIN:STANDARD
TZOFFSETFROM:+0300
TZOFFSETTO:+0200
TZNAME:EET
DTSTART:20231029T010000
END:STANDARD
END:VTIMEZONE
BEGIN:VEVENT
DTSTART;TZID=Europe/Helsinki:20231204T170000
DTEND;TZID=Europe/Helsinki:20231204T220000
DTSTAMP:20260420T200908
CREATED:20231121T154950Z
LAST-MODIFIED:20231121T165656Z
UID:7137-1701709200-1701727200@perinnejazz.fi
SUMMARY:Nyyrikki Oldstars Sextet ja Commander’s CityJazz Sextet
DESCRIPTION:Vierailjoina: Antti Rissanen\, Erja Uitto\, Lasse Liemola ja Jarmo Rouvinen \nOHJELMA \nklo 17.00–18.00 ruokailu\n– Nyyrikki Oldstars Sextet: Erja Uitto (voc) \, Risto ”Oikku” Oinaala (tp)\, Antti Rissanen (venttiilipasuuna)\, Jarmo Nissinen (guitar)\, Curre Qvarnström (bass)\, Jaakko Rinne (pno)\, Aarne ”Arska” Himberg (drums).\n– Väliajalla Musiikkimuseo Fame esittely Olli Ilmolahti\n– Commander’s CityJazz Sextet:  voc Lasse Liemola\, Jarmo Karamäki (sax)\, Jarmo Rouvinen (sax)\, Jukka Riikonen (pno)\, Arto Alho (bass)\, Jukka Järvelä (bjo)\, Esko Reivinen (drums). \n\n		\n		\n			\n				\n			\n				\n				Jukka Riikonen  \n				\n			\n				\n			\n				\n				Olli Ilmolahti  \n				\n			\n				\n			\n				\n				Jarmo Rouvinen\n				\n		\n\n  \n– Ilta päättyy Jameihin klo 22.00\, isäntänä Jarmo Karamäki \nLisätietoja: tuottaja Jaakko Rinne\, puhelin 050 – 412 4174 ja  Jarmo Karamäki\, puhelin 040-827 5198 \nTapahtumaan on vapaa pääsy\, ruokailua suositellaan. Pöytävaraus edellyttää ruokailua. \nRavintola Nyyrikki\, Pohjolankatu 2\, 00610 Helsinki\nPuhelin (09) 757 2299\, ravintola@nyyrikki.f
URL:https://perinnejazz.fi/tapahtuma/nyyrikki-oldstars-group-feat-antti-rissanen-pasuuna/
LOCATION:Ravintola Nyyrikki\, Pohjolankatu 2\, Helsinki\, 00610\, Suomi
ATTACH;FMTTYPE=image/jpeg:https://perinnejazz.fi/wp-content/uploads/2023/11/ar-eu-ll-.jpg
END:VEVENT
END:VCALENDAR