BEGIN:VCALENDAR
VERSION:2.0
PRODID:-//perinnejazz.fi - ECPv6.15.5//NONSGML v1.0//EN
CALSCALE:GREGORIAN
METHOD:PUBLISH
X-ORIGINAL-URL:https://perinnejazz.fi
X-WR-CALDESC:Tapahtumat perinnejazz.fi
REFRESH-INTERVAL;VALUE=DURATION:PT1H
X-Robots-Tag:noindex
X-PUBLISHED-TTL:PT1H
BEGIN:VTIMEZONE
TZID:Europe/Helsinki
BEGIN:DAYLIGHT
TZOFFSETFROM:+0200
TZOFFSETTO:+0300
TZNAME:EEST
DTSTART:20230326T010000
END:DAYLIGHT
BEGIN:STANDARD
TZOFFSETFROM:+0300
TZOFFSETTO:+0200
TZNAME:EET
DTSTART:20231029T010000
END:STANDARD
END:VTIMEZONE
BEGIN:VEVENT
DTSTART;TZID=Europe/Helsinki:20231020T190000
DTEND;TZID=Europe/Helsinki:20231020T220000
DTSTAMP:20260420T232633
CREATED:20230729T173223Z
LAST-MODIFIED:20230730T183034Z
UID:7223-1697828400-1697839200@perinnejazz.fi
SUMMARY:DDT Jazzband 65 years - Still Rockin'
DESCRIPTION:”DDT Jazzband 65 years – Still Rockin”\, solistina Johanna Försti ja juontajana Mikael Konttinen pe 20.10.2023 klo 19.00 Savoy-teatteri. \nDDT Jazzband: Mikko Mustonen (vas.)\, Thomas Rönnholm\, Niklas Andersson\, Pekka Mesimäki\, Fred Andersson\, Ilkka Joronen ja Shane McKenzie. KUVA Nils Krogell \nLIPUT alkaen 39.50 eur/kpl TÄSTÄ\nOsoite: Kasarmikatu 46–48\, 00130 Helsinki \nJärjestäjä:  DDT Jazzband
URL:https://perinnejazz.fi/tapahtuma/ddt-jazzband-65-years-still-rockin/
LOCATION:Savoy Teatteri\, Eteläesplanadi 14\, Helsinki\, 00100\, Suomi
ATTACH;FMTTYPE=image/jpeg:https://perinnejazz.fi/wp-content/uploads/2023/07/DDT-2023-05-03.jpg
END:VEVENT
END:VCALENDAR