BEGIN:VCALENDAR
VERSION:2.0
PRODID:-//perinnejazz.fi - ECPv6.15.5//NONSGML v1.0//EN
CALSCALE:GREGORIAN
METHOD:PUBLISH
X-ORIGINAL-URL:https://perinnejazz.fi
X-WR-CALDESC:Tapahtumat perinnejazz.fi
REFRESH-INTERVAL;VALUE=DURATION:PT1H
X-Robots-Tag:noindex
X-PUBLISHED-TTL:PT1H
BEGIN:VTIMEZONE
TZID:Europe/Helsinki
BEGIN:DAYLIGHT
TZOFFSETFROM:+0200
TZOFFSETTO:+0300
TZNAME:EEST
DTSTART:20230326T010000
END:DAYLIGHT
BEGIN:STANDARD
TZOFFSETFROM:+0300
TZOFFSETTO:+0200
TZNAME:EET
DTSTART:20231029T010000
END:STANDARD
END:VTIMEZONE
BEGIN:VEVENT
DTSTART;TZID=Europe/Helsinki:20231003T193000
DTEND;TZID=Europe/Helsinki:20231003T220000
DTSTAMP:20260420T232631
CREATED:20230830T124451Z
LAST-MODIFIED:20230830T124820Z
UID:7298-1696361400-1696370400@perinnejazz.fi
SUMMARY:Antti Sarpila Swing Band
DESCRIPTION:Antti Sarpila Swing Band esittää tanssiin kutsun kaikille swingin ja Lindy Hopin ystäville! \nLiput 17e\, SPJ ry:n jäsenille 12e Tiketti.fi \nShowtime noin klo 19:30-22:00
URL:https://perinnejazz.fi/tapahtuma/antti-sarpila-swing-band-2/
LOCATION:On The Rock´s\, Mikonkatu 15\, Helsinki\, 00100\, Suomi
ATTACH;FMTTYPE=image/jpeg:https://perinnejazz.fi/wp-content/uploads/2022/10/as2-e1727168410191.jpg
END:VEVENT
END:VCALENDAR