BEGIN:VCALENDAR
VERSION:2.0
PRODID:-//perinnejazz.fi - ECPv6.15.5//NONSGML v1.0//EN
CALSCALE:GREGORIAN
METHOD:PUBLISH
X-WR-CALNAME:perinnejazz.fi
X-ORIGINAL-URL:https://perinnejazz.fi
X-WR-CALDESC:Tapahtumat perinnejazz.fi
REFRESH-INTERVAL;VALUE=DURATION:PT1H
X-Robots-Tag:noindex
X-PUBLISHED-TTL:PT1H
BEGIN:VTIMEZONE
TZID:Europe/Helsinki
BEGIN:DAYLIGHT
TZOFFSETFROM:+0200
TZOFFSETTO:+0300
TZNAME:EEST
DTSTART:20230326T010000
END:DAYLIGHT
BEGIN:STANDARD
TZOFFSETFROM:+0300
TZOFFSETTO:+0200
TZNAME:EET
DTSTART:20231029T010000
END:STANDARD
END:VTIMEZONE
BEGIN:VEVENT
DTSTART;TZID=Europe/Helsinki:20230830T183000
DTEND;TZID=Europe/Helsinki:20230830T203000
DTSTAMP:20260421T010837
CREATED:20230822T031048Z
LAST-MODIFIED:20230822T110112Z
UID:7258-1693420200-1693427400@perinnejazz.fi
SUMMARY:Antti Sarpila Swing Band
DESCRIPTION:Suomen PerinneJazz ry:n syksyn jazzkausi Café Caruselissa alkaa komeasti! Keskiviikkona 30.8. lavalle nousee Antti Sarpila Swing Band: Antti Sarpila cl/sax\, Janne Hovi p\, Wade Mikkola b ja ”Kepa” Kettunen dr. \nSoitto alkaa puoli seitsemän aikaan\, mutta kokemus on osoittanut\, että parhaat paikat täyttyvät jo kuuden kieppeillä. Pöydät lähimpänä orkesteria ovat varattuja ruokailijoille\, pöytävaraukset puhelin 09-622 4522. Suosittelemme illallisen nauttimista bändi-illan aikana. Caruselin monipuoliselta ruokalistalta löytyy niin raikkaita salaatteja\, piiraita ja pikkulämpimiä\, keittoja sekä pizzoja (myös gluteenittomana). \nValitettavasti yleinen kustannustaso on kohonnut voimakkaasti\, että joudumme jatkossa perimään pääsymaksun. Pääsylippujen hinnat 15\,00 eur/kpl ja jäsenet 10 eur/kpl. Lipputulot menevät kokonaisuudessaan esiintyjille. \nJäsenmaksu on 25 eur/vuosi\, jäseneksi voit liittyä TÄSSÄ. \nCafé Carusel Merisatamanranta 10\, 00150 Helsinki\, puhelin 358 9 622 4522 \n  \n 
URL:https://perinnejazz.fi/tapahtuma/caruselin-syysjazzit-alkavat-ensi-viikolla/
LOCATION:Café Carusel\, Merisatamanranta 10\, Helsinki\, 00150\, Suomi
ATTACH;FMTTYPE=image/jpeg:https://perinnejazz.fi/wp-content/uploads/2023/08/assb.jpg
END:VEVENT
END:VCALENDAR