BEGIN:VCALENDAR
VERSION:2.0
PRODID:-//perinnejazz.fi - ECPv6.15.5//NONSGML v1.0//EN
CALSCALE:GREGORIAN
METHOD:PUBLISH
X-WR-CALNAME:perinnejazz.fi
X-ORIGINAL-URL:https://perinnejazz.fi
X-WR-CALDESC:Tapahtumat perinnejazz.fi
REFRESH-INTERVAL;VALUE=DURATION:PT1H
X-Robots-Tag:noindex
X-PUBLISHED-TTL:PT1H
BEGIN:VTIMEZONE
TZID:Europe/Helsinki
BEGIN:DAYLIGHT
TZOFFSETFROM:+0200
TZOFFSETTO:+0300
TZNAME:EEST
DTSTART:20230326T010000
END:DAYLIGHT
BEGIN:STANDARD
TZOFFSETFROM:+0300
TZOFFSETTO:+0200
TZNAME:EET
DTSTART:20231029T010000
END:STANDARD
END:VTIMEZONE
BEGIN:VEVENT
DTSTART;TZID=Europe/Helsinki:20230427T183000
DTEND;TZID=Europe/Helsinki:20230427T203000
DTSTAMP:20260421T100445
CREATED:20230127T143733Z
LAST-MODIFIED:20230324T153104Z
UID:6337-1682620200-1682627400@perinnejazz.fi
SUMMARY:Marian Petrescu Tribute to Piano Grande (Huom. päivä muuttunut)
DESCRIPTION:Wade Mikkola\n				\n			\n				\n			\n				\n				Thomas Rönnholm\n				\n		\n\nfeat. Wade Mikkola\, Thomas Rönnholm. \nPÄIVÄ ON siis to 27.4.2023 \nVapaa pääsy
URL:https://perinnejazz.fi/tapahtuma/marian-petrescu-tribute-to-piano-grande/
LOCATION:Café Carusel\, Merisatamanranta 10\, Helsinki\, 00150\, Suomi
ATTACH;FMTTYPE=image/jpeg:https://perinnejazz.fi/wp-content/uploads/2023/01/marian-petrescu-pori2016-or.jpg
END:VEVENT
END:VCALENDAR