BEGIN:VCALENDAR
VERSION:2.0
PRODID:-//perinnejazz.fi - ECPv6.15.5//NONSGML v1.0//EN
CALSCALE:GREGORIAN
METHOD:PUBLISH
X-ORIGINAL-URL:https://perinnejazz.fi
X-WR-CALDESC:Tapahtumat perinnejazz.fi
REFRESH-INTERVAL;VALUE=DURATION:PT1H
X-Robots-Tag:noindex
X-PUBLISHED-TTL:PT1H
BEGIN:VTIMEZONE
TZID:Europe/Helsinki
BEGIN:DAYLIGHT
TZOFFSETFROM:+0200
TZOFFSETTO:+0300
TZNAME:EEST
DTSTART:20230326T010000
END:DAYLIGHT
BEGIN:STANDARD
TZOFFSETFROM:+0300
TZOFFSETTO:+0200
TZNAME:EET
DTSTART:20231029T010000
END:STANDARD
END:VTIMEZONE
BEGIN:VEVENT
DTSTART;TZID=Europe/Helsinki:20230419T173000
DTEND;TZID=Europe/Helsinki:20230419T220000
DTSTAMP:20260421T100544
CREATED:20230127T155820Z
LAST-MODIFIED:20230412T172731Z
UID:6362-1681925400-1681941600@perinnejazz.fi
SUMMARY:Acoustic Dixie Six voc Nina Lindroos
DESCRIPTION:Illan orkesterina esiintyy Acoustic Dixie Six laulusolistinaan säteilevä Nina Lindroos. Elokuvana Pekka Leimu Quartet vuodelta 2010. Tuottaja Juha Nevalainen. \nAcoustic Dixie Six: Niklas Andersson ( voc\, tp)\, Bengt-Ove Fagerhed (trb) Juho Peltoniemi (dr)\, Olli Salmi (cl) Petri Tötterman (bjo) Oskar Fagerhed (b). \nAD6 trumpetisti/vokalisti  Niklas Andersson totesi Jazzrytmien haastattelussa vuonna 2014 ”Minulle musiikki on hyvä renki\, mutta huono isäntä – eli hieno harrastus. En ole koskaan haaveillut ammattia siitä”\, sanoo Acoustic Dixie Six yhtyeen trumpetisti Niklas Andersson (s. 1973). \nHaastattelu löytyy TÄSTÄ \nNiklas Andersson KUVA Martti Koljonen \n 
URL:https://perinnejazz.fi/tapahtuma/acoustic-dixie-six-voc-niklas-andersson/
LOCATION:Ravintola Nyyrikki\, Pohjolankatu 2\, Helsinki\, 00610\, Suomi
ATTACH;FMTTYPE=image/jpeg:https://perinnejazz.fi/wp-content/uploads/2022/12/ninaL-art-1.jpg
END:VEVENT
END:VCALENDAR