BEGIN:VCALENDAR
VERSION:2.0
PRODID:-//perinnejazz.fi - ECPv6.15.5//NONSGML v1.0//EN
CALSCALE:GREGORIAN
METHOD:PUBLISH
X-ORIGINAL-URL:https://perinnejazz.fi
X-WR-CALDESC:Tapahtumat perinnejazz.fi
REFRESH-INTERVAL;VALUE=DURATION:PT1H
X-Robots-Tag:noindex
X-PUBLISHED-TTL:PT1H
BEGIN:VTIMEZONE
TZID:Europe/Helsinki
BEGIN:DAYLIGHT
TZOFFSETFROM:+0200
TZOFFSETTO:+0300
TZNAME:EEST
DTSTART:20230326T010000
END:DAYLIGHT
BEGIN:STANDARD
TZOFFSETFROM:+0300
TZOFFSETTO:+0200
TZNAME:EET
DTSTART:20231029T010000
END:STANDARD
END:VTIMEZONE
BEGIN:VEVENT
DTSTART;TZID=Europe/Helsinki:20230315T173000
DTEND;TZID=Europe/Helsinki:20230315T220000
DTSTAMP:20260421T114242
CREATED:20230115T155015Z
LAST-MODIFIED:20230309T024045Z
UID:6233-1678901400-1678917600@perinnejazz.fi
SUMMARY:Kimmo Leppälä Quartet voc Alex Ikonen
DESCRIPTION:Kimmo Leppälä Quartet: Alex Ikonen (voc)\, Kimmo Leppälä (cl\,sax)\, Robi de Godzinsky (pno) \, Ilkka Leppälä (s-bas)\, Ari Ikonen (dr) ;\nSinatran klassikoita\, Nat King Colen tunnelmia\, Bubleen swengiä.\nElokuva: Barbeque Jazz Band Taavetin valleilla.
URL:https://perinnejazz.fi/tapahtuma/kimmo-leppala-quartet-voc-alex-ikonen/
LOCATION:Ravintola Nyyrikki\, Pohjolankatu 2\, Helsinki\, 00610\, Suomi
ATTACH;FMTTYPE=image/jpeg:https://perinnejazz.fi/wp-content/uploads/2023/01/kim-lep-2.jpg
END:VEVENT
END:VCALENDAR