BEGIN:VCALENDAR
VERSION:2.0
PRODID:-//perinnejazz.fi - ECPv6.15.5//NONSGML v1.0//EN
CALSCALE:GREGORIAN
METHOD:PUBLISH
X-ORIGINAL-URL:https://perinnejazz.fi
X-WR-CALDESC:Tapahtumat perinnejazz.fi
REFRESH-INTERVAL;VALUE=DURATION:PT1H
X-Robots-Tag:noindex
X-PUBLISHED-TTL:PT1H
BEGIN:VTIMEZONE
TZID:Europe/Helsinki
BEGIN:DAYLIGHT
TZOFFSETFROM:+0200
TZOFFSETTO:+0300
TZNAME:EEST
DTSTART:20220327T010000
END:DAYLIGHT
BEGIN:STANDARD
TZOFFSETFROM:+0300
TZOFFSETTO:+0200
TZNAME:EET
DTSTART:20221030T010000
END:STANDARD
END:VTIMEZONE
BEGIN:VEVENT
DTSTART;TZID=Europe/Helsinki:20221219T173000
DTEND;TZID=Europe/Helsinki:20221219T220000
DTSTAMP:20260421T162028
CREATED:20221023T155523Z
LAST-MODIFIED:20221130T131229Z
UID:5802-1671471000-1671487200@perinnejazz.fi
SUMMARY:Mia Lundell & Broadway Nyyrikissä
DESCRIPTION:Suomen PerinneJazz ry:n Elokuva-Konsertti- ja Jami-ilta. \nMia Lundell & Broadway:\n17.30 – 19.00 Ruokailu ja elokuva \nBoston Promenade in Bangkok 2012.  Video 45 min. Juha Nevalainen. \n19.00 – 21.00 Illan Housebändi.  Välissä tauko ½ tuntia. \nMia Lundell & Broadway \nMia Lundell (voc)\, Harri Rautiainen (saxes)\, Mikko Olkkonen (trb)\, Jorma Niemi ( krb)\, Mikael Bobacka (bas) ja A-P Roitto (drums). \nKaikille vapaat jamit 21.00 – 22.00
URL:https://perinnejazz.fi/tapahtuma/mia-lundell-broadway/
LOCATION:Ravintola Nyyrikki\, Pohjolankatu 2\, Helsinki\, 00610\, Suomi
ATTACH;FMTTYPE=image/jpeg:https://perinnejazz.fi/wp-content/uploads/2022/10/Nyyrikki-Broadway.jpg
END:VEVENT
END:VCALENDAR