BEGIN:VCALENDAR
VERSION:2.0
PRODID:-//perinnejazz.fi - ECPv6.15.5//NONSGML v1.0//EN
CALSCALE:GREGORIAN
METHOD:PUBLISH
X-ORIGINAL-URL:https://perinnejazz.fi
X-WR-CALDESC:Tapahtumat perinnejazz.fi
REFRESH-INTERVAL;VALUE=DURATION:PT1H
X-Robots-Tag:noindex
X-PUBLISHED-TTL:PT1H
BEGIN:VTIMEZONE
TZID:Europe/Helsinki
BEGIN:DAYLIGHT
TZOFFSETFROM:+0200
TZOFFSETTO:+0300
TZNAME:EEST
DTSTART:20220327T010000
END:DAYLIGHT
BEGIN:STANDARD
TZOFFSETFROM:+0300
TZOFFSETTO:+0200
TZNAME:EET
DTSTART:20221030T010000
END:STANDARD
END:VTIMEZONE
BEGIN:VEVENT
DTSTART;TZID=Europe/Helsinki:20221121T173000
DTEND;TZID=Europe/Helsinki:20221121T220000
DTSTAMP:20260421T181906
CREATED:20221023T154830Z
LAST-MODIFIED:20221024T014725Z
UID:5790-1669051800-1669068000@perinnejazz.fi
SUMMARY:Lasse Liemola vierailee Nyyrikissä
DESCRIPTION:Kuvassa: Risto Vanari (vas.)\, Tuomas Kalliala ja Lasse Liemola 1958 KUVA Wikipedia \nLasse Liemola & Iltatähti Old Stars Group   \nOhjelma:\n17.30 – 19.00 Ruokailu ja elokuva\n19.00 – 21.00 Illan Housebändi.\nVälissä tauko ½ tuntia.\nKaikille vapaat jamit 21.00 – 22.00. \nKokoonpano: Lasse Liemola (voc)\, Risto ” Oikku” Oinaala (tp)\, Jarmo ” Rova” Rouvinen (sax)\, Jarmo Nissinen (g)\, Kari Korpinen (b)\, Jaakko Rinne (p) ja Mikko Virto (drm). \n\n		\n		\n			\n				\n			\n				\n				Risto Oinaala\n				\n			\n				\n			\n				\n				Jarmo Rouvinen\n				\n			\n				\n			\n				\n				Jarmo Nissinen\n				\n		\n\n\n		\n		\n			\n				\n			\n				\n				Jaakko Rinne\n				\n			\n				\n			\n				\n				Kari Korpinen\n				\n			\n				\n			\n				\n				Mikko Virto\n				\n		\n\n  \nLasse Liemola (s. 1937) voitti vuonna 1957 kykyjenetsintäkilpailut ja pääsi levyttämään singlen ”Sininen kuu” /” Kadun aurinkoisella puolella”. Hän nousi nuorisoidoliksi samana vuonna levytetyllä laulullaan ”Diivaillen”. Muita Liemolan menestyskappaleita olivat ”Anna pois” (yksi Suomen kaikkien aikojen myydyimmistä). Suosionsa myötä Liemola pääsi myös mukaan muutamaan elokuvaan kuten Iskelmäketju vuodelta 1959. \nLasse Liemola Mosabacka Big Band KUVA LL Fan Club \nViikkosanomien vuosittain järjestämässä Suosituin suomalainen -äänestyksessä Liemola sijoittui vuonna 1959 neljänneksi. Kukaan toinen kevyen musiikin laulaja ei ollut ennen Liemolaa yltänyt äänestyksessä näin korkealle. \nPeter von Baghin ja Ilpo Hakasalon mukaan Liemola oli 1950- ja 1960-lukujen vaihteessa ennen kaikkea aikaansa seuraavan kaupunkilaisnuorison suosikki. \n1960-luvun alussa Liemola levytti viimeiset menestyslevynsä Me nuoret ja No niin\, Mary Lou\, mutta sen jälkeen hänen suosionsa alkoi hiipua. Hän lopetti laulajauransa ajettuaan keikkamatkalla kolarin vuonna 1966 ja ryhtyi opiskelemaan ekonomiksi. \nLiemola aloitti kaupallisen uransa 1960-luvulla äänilevykauppiaana\, toimi lyhyen aikaa makeistehtaan toimitusjohtajana ja sittemmin siirtyi vanhempiensa tapaan vihannes- ja kalatukkualalle. Myöhemmin hän on esiintynyt skiffle-tapahtumissa laulamassa. \nLiemola on ollut Helsingin kaupunginvaltuustossa sekä Stadin Slangi ry:n puheenjohtajana. \nKUVAT Jazzrytmit mediakirjasto
URL:https://perinnejazz.fi/tapahtuma/lasse-liemola-vierailee-nyyrikissa/
LOCATION:Ravintola Nyyrikki\, Pohjolankatu 2\, Helsinki\, 00610\, Suomi
ATTACH;FMTTYPE=image/jpeg:https://perinnejazz.fi/wp-content/uploads/2022/10/800px-Lasseliemola.jpg
END:VEVENT
END:VCALENDAR