BEGIN:VCALENDAR
VERSION:2.0
PRODID:-//perinnejazz.fi - ECPv6.15.5//NONSGML v1.0//EN
CALSCALE:GREGORIAN
METHOD:PUBLISH
X-WR-CALNAME:perinnejazz.fi
X-ORIGINAL-URL:https://perinnejazz.fi
X-WR-CALDESC:Tapahtumat perinnejazz.fi
REFRESH-INTERVAL;VALUE=DURATION:PT1H
X-Robots-Tag:noindex
X-PUBLISHED-TTL:PT1H
BEGIN:VTIMEZONE
TZID:Europe/Helsinki
BEGIN:DAYLIGHT
TZOFFSETFROM:+0200
TZOFFSETTO:+0300
TZNAME:EEST
DTSTART:20220327T010000
END:DAYLIGHT
BEGIN:STANDARD
TZOFFSETFROM:+0300
TZOFFSETTO:+0200
TZNAME:EET
DTSTART:20221030T010000
END:STANDARD
END:VTIMEZONE
BEGIN:VEVENT
DTSTART;TZID=Europe/Helsinki:20221014T183000
DTEND;TZID=Europe/Helsinki:20221014T220000
DTSTAMP:20260421T194734
CREATED:20221010T063848Z
LAST-MODIFIED:20221010T063848Z
UID:5745-1665772200-1665784800@perinnejazz.fi
SUMMARY:Tikkujameissa tarjolla on Dixiä ja Gospelia
DESCRIPTION:Esiintyjät Tikku Houseband & Mila Nissinen\, Alvi´s Dixie Stompers voc Heikki Oramo ja Pasi Saarelma sekä Acoustic Dixie Six. \nKulttuuritehdas Vernissa\, Tikkurilantie 36\, Vantaa \nLiput: 18\,- € / 12\,- € jäsenet (käteismaksu) \nLipunmyynti ovella avataan klo 18 \nPöytäpaikkavaraukset puh. 0400 469 525 tai  leena.svensson@kolumbus.fi \nAlvi´s Dixie Stompers \n 
URL:https://perinnejazz.fi/tapahtuma/tikkujameissa-tarjolla-on-dixia-ja-gospelia/
LOCATION:Kulttuuritehdas Vernissa\, Tikkurilantie 36\, Vantaa\, Vantaa\, 01300\, Suomi
ATTACH;FMTTYPE=image/jpeg:https://perinnejazz.fi/wp-content/uploads/2022/03/ad6Nina.jpg
END:VEVENT
END:VCALENDAR