BEGIN:VCALENDAR
VERSION:2.0
PRODID:-//perinnejazz.fi - ECPv6.15.5//NONSGML v1.0//EN
CALSCALE:GREGORIAN
METHOD:PUBLISH
X-ORIGINAL-URL:https://perinnejazz.fi
X-WR-CALDESC:Tapahtumat perinnejazz.fi
REFRESH-INTERVAL;VALUE=DURATION:PT1H
X-Robots-Tag:noindex
X-PUBLISHED-TTL:PT1H
BEGIN:VTIMEZONE
TZID:Europe/Helsinki
BEGIN:DAYLIGHT
TZOFFSETFROM:+0200
TZOFFSETTO:+0300
TZNAME:EEST
DTSTART:20220327T010000
END:DAYLIGHT
BEGIN:STANDARD
TZOFFSETFROM:+0300
TZOFFSETTO:+0200
TZNAME:EET
DTSTART:20221030T010000
END:STANDARD
END:VTIMEZONE
BEGIN:VEVENT
DTSTART;TZID=Europe/Helsinki:20220923T183000
DTEND;TZID=Europe/Helsinki:20220923T203000
DTSTAMP:20260421T212032
CREATED:20220802T045605Z
LAST-MODIFIED:20220802T045605Z
UID:5456-1663957800-1663965000@perinnejazz.fi
SUMMARY:Mirja Mäkelä-Dunkel Quartet
DESCRIPTION:Mirja Mäkelän huikeaa laulua säestää Dunkelin perheestä koostuva kvartetti. Kyseessä on ryhmän ensimmäinen esiintyminen. Kahden vuoden koronakaranteeni on käytetty jazzstandardien haltuunottoon. \nMirja Mäkelä laulu\, Manuel Dunkel ts\, Tuukka Dunkel dms\, Atso Dunkel b\, Eero Dunkel g. \n\n		\n		\n			\n				\n			\n				\n				Manuel Dunkel\n				\n			\n				\n			\n				\n				Dunkelin veljekset\n				\n		\n\n  \nVapaa Pääsy \nPöytävaraukset\, puhelin + 358 9 622 4522 \n 
URL:https://perinnejazz.fi/tapahtuma/mirja-makela-dunkel-quartet/
LOCATION:Café Carusel\, Merisatamanranta 10\, Helsinki\, 00150\, Suomi
ATTACH;FMTTYPE=image/jpeg:https://perinnejazz.fi/wp-content/uploads/2022/08/mirja.jpg
END:VEVENT
END:VCALENDAR