BEGIN:VCALENDAR
VERSION:2.0
PRODID:-//perinnejazz.fi - ECPv6.15.5//NONSGML v1.0//EN
CALSCALE:GREGORIAN
METHOD:PUBLISH
X-WR-CALNAME:perinnejazz.fi
X-ORIGINAL-URL:https://perinnejazz.fi
X-WR-CALDESC:Tapahtumat perinnejazz.fi
REFRESH-INTERVAL;VALUE=DURATION:PT1H
X-Robots-Tag:noindex
X-PUBLISHED-TTL:PT1H
BEGIN:VTIMEZONE
TZID:Europe/Helsinki
BEGIN:DAYLIGHT
TZOFFSETFROM:+0200
TZOFFSETTO:+0300
TZNAME:EEST
DTSTART:20220327T010000
END:DAYLIGHT
BEGIN:STANDARD
TZOFFSETFROM:+0300
TZOFFSETTO:+0200
TZNAME:EET
DTSTART:20221030T010000
END:STANDARD
END:VTIMEZONE
BEGIN:VEVENT
DTSTART;TZID=Europe/Helsinki:20220914T173000
DTEND;TZID=Europe/Helsinki:20220914T220000
DTSTAMP:20260421T212040
CREATED:20220817T051809Z
LAST-MODIFIED:20220817T074527Z
UID:5508-1663176600-1663192800@perinnejazz.fi
SUMMARY:Nyyrikin jazzillat alkavat syyskuussa
DESCRIPTION:Ravintola Nyyrikin jazzit käynnistyvät ke 14.9. klo 17.30. Perinteiseen vanhaan tapaan aloitamme ruokailulla. \nKalle Lae (vas.)\, Henrik Björklöf\, Risto Oinaala ja Kari Korpinen \n-Elokuva Vallijamit osa 2 johtaa Antti Rissanen Nyyrikki-salissa klo 18.00. \n-Housebändin konsertti 19.00 – 21.00 \, välissä tauko. Jazzkellari Iltatähti. \n-RoiHausSwing Band: Kalle Lae (g/voc)\, Risto Oinaala ( tp/fhl/voc)\, Jarmo Rouvinen (sax)\, Kari Korpinen (b)\, Henrik Björklöf (dm). \nJamit kaikille yhteiset klo 21.00 – 22.00. \nLisätietoja: Tuottaja Jaakko Rinne\, puh. 050-412 4174
URL:https://perinnejazz.fi/tapahtuma/nyyrikin-jazzillat-alkavat-elokuvalla/
LOCATION:Ravintola Nyyrikki\, Pohjolankatu 2\, Helsinki\, 00610\, Suomi
ATTACH;FMTTYPE=image/jpeg:https://perinnejazz.fi/wp-content/uploads/2022/08/rhsb.jpg
END:VEVENT
END:VCALENDAR