BEGIN:VCALENDAR
VERSION:2.0
PRODID:-//perinnejazz.fi - ECPv6.15.5//NONSGML v1.0//EN
CALSCALE:GREGORIAN
METHOD:PUBLISH
X-WR-CALNAME:perinnejazz.fi
X-ORIGINAL-URL:https://perinnejazz.fi
X-WR-CALDESC:Tapahtumat perinnejazz.fi
REFRESH-INTERVAL;VALUE=DURATION:PT1H
X-Robots-Tag:noindex
X-PUBLISHED-TTL:PT1H
BEGIN:VTIMEZONE
TZID:Europe/Helsinki
BEGIN:DAYLIGHT
TZOFFSETFROM:+0200
TZOFFSETTO:+0300
TZNAME:EEST
DTSTART:20220327T010000
END:DAYLIGHT
BEGIN:STANDARD
TZOFFSETFROM:+0300
TZOFFSETTO:+0200
TZNAME:EET
DTSTART:20221030T010000
END:STANDARD
END:VTIMEZONE
BEGIN:VEVENT
DTSTART;TZID=Europe/Helsinki:20220907T190000
DTEND;TZID=Europe/Helsinki:20220907T220000
DTSTAMP:20260421T211956
CREATED:20220610T031812Z
LAST-MODIFIED:20220614T155549Z
UID:5210-1662577200-1662588000@perinnejazz.fi
SUMMARY:100th Anniversary of Erik Lindström
DESCRIPTION:Suomen PerinneJazz ry:n kymmenvuotisjuhlavuoden pääkonsertti pidetään ke 7.9. klo 19.00 Savoy-teatterissa Helsingissä. Konsertilla kunnioitetaan yhdistyksemme ensimmäistä kunniajäsentä\, säveltäjä\, kapellimestari ja muusikko Erik Lindströmiä. Hänen syntymästään tuli kuluneeksi sata vuotta 29.5.2022. \nKatso lisää TÄSTÄ \nLipunmyynti alkanut\, SPJ:n jäsenhinta 33\,50 eur/kpl\,  lippu.fi
URL:https://perinnejazz.fi/tapahtuma/100th-anniversary-of-erik-lindstrom/
LOCATION:Savoy Teatteri\, Eteläesplanadi 14\, Helsinki\, 00100\, Suomi
ATTACH;FMTTYPE=image/jpeg:https://perinnejazz.fi/wp-content/uploads/2022/06/el.jpg
END:VEVENT
END:VCALENDAR