BEGIN:VCALENDAR
VERSION:2.0
PRODID:-//perinnejazz.fi - ECPv6.15.5//NONSGML v1.0//EN
CALSCALE:GREGORIAN
METHOD:PUBLISH
X-WR-CALNAME:perinnejazz.fi
X-ORIGINAL-URL:https://perinnejazz.fi
X-WR-CALDESC:Tapahtumat perinnejazz.fi
REFRESH-INTERVAL;VALUE=DURATION:PT1H
X-Robots-Tag:noindex
X-PUBLISHED-TTL:PT1H
BEGIN:VTIMEZONE
TZID:Europe/Helsinki
BEGIN:DAYLIGHT
TZOFFSETFROM:+0200
TZOFFSETTO:+0300
TZNAME:EEST
DTSTART:20220327T010000
END:DAYLIGHT
BEGIN:STANDARD
TZOFFSETFROM:+0300
TZOFFSETTO:+0200
TZNAME:EET
DTSTART:20221030T010000
END:STANDARD
END:VTIMEZONE
BEGIN:VEVENT
DTSTART;TZID=Europe/Helsinki:20220708T120000
DTEND;TZID=Europe/Helsinki:20220710T220000
DTSTAMP:20260422T003145
CREATED:20220531T155230Z
LAST-MODIFIED:20220614T035502Z
UID:4691-1657281600-1657490400@perinnejazz.fi
SUMMARY:Baltic Jazz lähestyy - tervetuloa Taalintehtaalle
DESCRIPTION:Jo vuodesta 1987 järjestetty Baltic Jazz on svengaava koko perheen tapahtuma Kemiönsaarella. Taalintehtaan ruukkimiljöössä klassisen jazzin eri genret yhdistyvät saumattomasti muihin musiikkisuuntauksiin. Suomen PerinneJazz ry on mukana 8.–10.7. järjestettävillä festivaaleilla vahvasti. Hallituksemme jäsen Antti Sarpila on vastannut tapahtuman taiteellisesta johdosta 20-vuotta. \nAntti juhlistaa Swing Bandinsa 40-vuotistaivalta soittaen uusia tulkintoja ikivihreistä jazzstandardeista\, swingversioita klassisen musiikin helmistä sekä tietenkin vanhoja bravuurinumeroitaan\, joista yhtye on tunnettu perinteisen jazzin ystävien keskuudessa. \n  \n\n		\n		\n			\n				\n			\n				\n				 Wade Mikkola\n				\n			\n				\n			\n				\n				Janne Hovi\n				\n			\n				\n			\n				\n				Thomas Rönnholm\n				\n			\n				\n			\n				\n				Seppo Hovi\n				\n			\n				\n			\n				\n				Pekka Toivanen\n				\n		\n\n  \nASSB:n kokoonpanossa on tällä kertaa mukana myös basisti Wade Mikkola\, pianisti Janne Hovi ja rumpali Thomas Rönnholm\, jotka kaikki kuuluvat festivaalin vakioesiintyjiin. Antti\, Wade ja Thomas soittavat myös Dream Teamissä festivaalin päätöskonsertissa\, jolloin kokoonpano saa vahvistuksen Jannen isältä Seppo Hovilta ja saksofonisti Pekka Toivaselta. \n  \nErik Lindström (1922-2015) \nPäätöskonsertilla kunnioitetaan yhdistykseksemme kunniajäsentä nro 1 Erik Lindströmiä. Hänen syntymästään tuli 100-vuotta 29.5. \nPerinteiden mukaan Baltic Jazz ottaa varaslähdön jo torstai-iltana 7.7. Kasnäsissa. Silloin on luvassa svengaavaa saaristojazzia Archipelago Sea Jazz All Stars -kokoonpanon seurassa\, jossa festivaalisarjan kaikki neljää tapahtumaa ovat edustettuina. \n  \nTutustu festivaaliohjelmaan TÄSSÄ \n  \nLisätietoja:\n– Toiminnanjohtaja Alexandra Lönnström\, +358 440 790 340\n– Taiteellinen johtaja Antti Sarpila\, +358 400 501 702 \nFestivaalin lipunmyynti on käynnissä Tiketissä. \nBaltic Jazz 8.-10.7.2022
URL:https://perinnejazz.fi/tapahtuma/baltic-jazz-lahestyy-tervetuloa-taalintehtaalle/
LOCATION:Taalintehdas\, Suomi
ATTACH;FMTTYPE=image/jpeg:https://perinnejazz.fi/wp-content/uploads/2020/02/antti-bj18.jpg
ORGANIZER;CN="Kannatusyhdistys Jazzmusik i Dalsbruk ry":MAILTO:baltic.jazz@kimitoon.fi
END:VEVENT
END:VCALENDAR