BEGIN:VCALENDAR
VERSION:2.0
PRODID:-//perinnejazz.fi - ECPv6.15.5//NONSGML v1.0//EN
CALSCALE:GREGORIAN
METHOD:PUBLISH
X-ORIGINAL-URL:https://perinnejazz.fi
X-WR-CALDESC:Tapahtumat perinnejazz.fi
REFRESH-INTERVAL;VALUE=DURATION:PT1H
X-Robots-Tag:noindex
X-PUBLISHED-TTL:PT1H
BEGIN:VTIMEZONE
TZID:Europe/Helsinki
BEGIN:DAYLIGHT
TZOFFSETFROM:+0200
TZOFFSETTO:+0300
TZNAME:EEST
DTSTART:20220327T010000
END:DAYLIGHT
BEGIN:STANDARD
TZOFFSETFROM:+0300
TZOFFSETTO:+0200
TZNAME:EET
DTSTART:20221030T010000
END:STANDARD
END:VTIMEZONE
BEGIN:VEVENT
DTSTART;TZID=Europe/Helsinki:20220527T183000
DTEND;TZID=Europe/Helsinki:20220527T203000
DTSTAMP:20260422T035235
CREATED:20220525T123020Z
LAST-MODIFIED:20220525T123036Z
UID:4576-1653676200-1653683400@perinnejazz.fi
SUMMARY:Lasse Hirvi quartet
DESCRIPTION:Lasse Hirvi on teatterityönsä takia valitettavan harvoin nähty muusikko Helsingin seudulla\, mutta nyt tarjoutuu jälleen tilaisuus\, ja vielä perinteikkäässä seurassa!\nHirven monivuotiset soittokumppanit ovat nyt mukana: Pekka Toivanen – saksofonit\, Wade Mikkola – basso ja Heikki Sandrén – rummut.\nLuvassa on huipputason svengaavaa mainstream-jazzia! \nIllan esiintyjä Lasse Hirvi quartet \nVapaa pääsy \n\n		\n		\n			\n				\n			\n				\n				Pekka Toivanen\n				\n			\n				\n			\n				\n				Wade Mikkola\n				\n			\n				\n			\n				\n				Heikki Sandrén\n				\n		\n\nLisätietoja: Wade Mikkola\, puh. 040-754 1404
URL:https://perinnejazz.fi/tapahtuma/lasse-hirvi-quartet/
LOCATION:Café Carusel\, Merisatamanranta 10\, Helsinki\, 00150\, Suomi
ATTACH;FMTTYPE=image/jpeg:https://perinnejazz.fi/wp-content/uploads/2022/01/lasse-hirvi.jpg
END:VEVENT
END:VCALENDAR