BEGIN:VCALENDAR
VERSION:2.0
PRODID:-//perinnejazz.fi - ECPv6.15.5//NONSGML v1.0//EN
CALSCALE:GREGORIAN
METHOD:PUBLISH
X-WR-CALNAME:perinnejazz.fi
X-ORIGINAL-URL:https://perinnejazz.fi
X-WR-CALDESC:Tapahtumat perinnejazz.fi
REFRESH-INTERVAL;VALUE=DURATION:PT1H
X-Robots-Tag:noindex
X-PUBLISHED-TTL:PT1H
BEGIN:VTIMEZONE
TZID:Europe/Helsinki
BEGIN:DAYLIGHT
TZOFFSETFROM:+0200
TZOFFSETTO:+0300
TZNAME:EEST
DTSTART:20220327T010000
END:DAYLIGHT
BEGIN:STANDARD
TZOFFSETFROM:+0300
TZOFFSETTO:+0200
TZNAME:EET
DTSTART:20221030T010000
END:STANDARD
END:VTIMEZONE
BEGIN:VEVENT
DTSTART;TZID=Europe/Helsinki:20220525T173000
DTEND;TZID=Europe/Helsinki:20220525T220000
DTSTAMP:20260422T035224
CREATED:20220317T191809Z
LAST-MODIFIED:20220317T192707Z
UID:4671-1653499800-1653516000@perinnejazz.fi
SUMMARY:Seppo Olkkonen Quintet feat.  Rauni Pekkala
DESCRIPTION:Rauni Pekkala on suomalainen iskelmälaulaja\, joka oli varsin suosittu 1960-luvulla. Hänen uransa alkoi vuonna 1960 hänen sijoituttuaan iskelmälaulukilpailussa Pieksämäellä toiseksi. Hän toimi Herbert Katzin yhtyeen solistina viisi vuotta ja osallistui vuonna 1963 Eurovision laulukilpailun Suomen karsintaan. 1960-luvun jälkeen esiintymiset vähenivät selvästi\, mutta Pekkala tekee edelleen keikkoja. Harrastuksista mainittakoon lentopallo. \n\n		\n		\n			\n				\n			\n				\n				Seppo Olkkonen\n				\n			\n				\n			\n				\n				Raimo Korhonen\n				\n			\n				\n			\n				\n				Jukka Riikonen\n				\n			\n				\n			\n				\n				Mikael Seire\n				\n		\n\n  \nSeppo Olkkonen Quintet: Raikka Korhonen tp\,  Seppo Olkkonen sax\, Jukka Riikonen pno\, Arto Alho b\, Mikael Seire\, drm. \nAloitus klo  17.30. \nLeffa    klo 18.00 – 18.45  ”Vallijamit” \nSetti 1  klo 19.00 – 19.45   Seppo Olkkonen Quintet feat.  Rauni Pekkala \nTauko:  Ohjelma avoin \nSetti 2  klo 20.15 – 21.00  Seppo Olkkonen Quintet feat. Rauni Pekkala \nJamit    klo 21.00 – 22.00 \nVapaa pääsy \nLisätietoja: Tuottaja Jaakko Rinne\, puhelin 050 412 4174
URL:https://perinnejazz.fi/tapahtuma/seppo-olkkonen-quintet-feat-rauni-pekkala/
LOCATION:Ravintola Nyyrikki\, Pohjolankatu 2\, Helsinki\, 00610\, Suomi
ATTACH;FMTTYPE=image/jpeg:https://perinnejazz.fi/wp-content/uploads/2022/03/Rauni-Pekkala-1-2-2013.jpg
END:VEVENT
END:VCALENDAR