BEGIN:VCALENDAR
VERSION:2.0
PRODID:-//perinnejazz.fi - ECPv6.15.5//NONSGML v1.0//EN
CALSCALE:GREGORIAN
METHOD:PUBLISH
X-WR-CALNAME:perinnejazz.fi
X-ORIGINAL-URL:https://perinnejazz.fi
X-WR-CALDESC:Tapahtumat perinnejazz.fi
REFRESH-INTERVAL;VALUE=DURATION:PT1H
X-Robots-Tag:noindex
X-PUBLISHED-TTL:PT1H
BEGIN:VTIMEZONE
TZID:Europe/Helsinki
BEGIN:DAYLIGHT
TZOFFSETFROM:+0200
TZOFFSETTO:+0300
TZNAME:EEST
DTSTART:20220327T010000
END:DAYLIGHT
BEGIN:STANDARD
TZOFFSETFROM:+0300
TZOFFSETTO:+0200
TZNAME:EET
DTSTART:20221030T010000
END:STANDARD
END:VTIMEZONE
BEGIN:VEVENT
DTSTART;TZID=Europe/Helsinki:20220519T190000
DTEND;TZID=Europe/Helsinki:20220519T223000
DTSTAMP:20260422T035224
CREATED:20220325T113204Z
LAST-MODIFIED:20220325T113204Z
UID:4770-1652986800-1652999400@perinnejazz.fi
SUMMARY:Classic Jazz Society Quintet Tikkujameissa
DESCRIPTION:– Tikku House Band voc Mila Nissinen \n– Classic Jazz Society Quintet (Suomen Perinnejazz ry) mukana mm. Antti Sarpila ja Seppo Hovi \nLiput 18\,- €/12\,- € jäsenet\, maksu käteisellä tai maksupäätteellä. \nPöytävaraukset: leena.svensson@kolumbus.fi tai puh. 0400 469 525.
URL:https://perinnejazz.fi/tapahtuma/classic-jazz-society-quintet-tikkujameissa/
LOCATION:Kulttuuritehdas Vernissa\, Tikkurilantie 36\, Vantaa\, Vantaa\, 01300\, Suomi
ATTACH;FMTTYPE=image/jpeg:https://perinnejazz.fi/wp-content/uploads/2021/11/Savoy_Jazz_Adam-21.jpg
END:VEVENT
END:VCALENDAR