BEGIN:VCALENDAR
VERSION:2.0
PRODID:-//perinnejazz.fi - ECPv6.15.5//NONSGML v1.0//EN
CALSCALE:GREGORIAN
METHOD:PUBLISH
X-ORIGINAL-URL:https://perinnejazz.fi
X-WR-CALDESC:Tapahtumat perinnejazz.fi
REFRESH-INTERVAL;VALUE=DURATION:PT1H
X-Robots-Tag:noindex
X-PUBLISHED-TTL:PT1H
BEGIN:VTIMEZONE
TZID:Europe/Helsinki
BEGIN:DAYLIGHT
TZOFFSETFROM:+0200
TZOFFSETTO:+0300
TZNAME:EEST
DTSTART:20220327T010000
END:DAYLIGHT
BEGIN:STANDARD
TZOFFSETFROM:+0300
TZOFFSETTO:+0200
TZNAME:EET
DTSTART:20221030T010000
END:STANDARD
END:VTIMEZONE
BEGIN:VEVENT
DTSTART;TZID=Europe/Helsinki:20220428T190000
DTEND;TZID=Europe/Helsinki:20220428T213000
DTSTAMP:20260422T035236
CREATED:20211216T182718Z
LAST-MODIFIED:20220309T050349Z
UID:4121-1651172400-1651181400@perinnejazz.fi
SUMMARY:BARBEQUE ORKESTERI 20-VUOTTA
DESCRIPTION:BJB – Barbeque Jazz and Dance Band – Barbeque Orchestra on perustettu vuonna 2002. Alkuaikojen tyylisuunta oli dixielandin ja swingin väliltä\, eli valkoisten soittama chicagojazz. Vähitellen siirryttiin sovitetun swingin ja svengaavan tanssimusiikin suuntaan. \nKokoonpano: Jarmo Nissinen (vas.)\, Jorma Katrama (1936-2022)\, Valeri Nikitin\, Erkki Hurri\, Erja Uitto\, Eero Valovirta\, Juhani Reijonen\, Pekka Iiramo ja Jarmo Karamäki \nKulttuuritehdas Vernissa to 28.4.2022\, klo 19.00\, Tikkurilantie 36 \nLiput 18 eur/12 eur (jäsenet) \nLisätietoja: Erkki Hurri\, puh. 0400-500659
URL:https://perinnejazz.fi/tapahtuma/barbeque-orkesteri-20-vuotta/
LOCATION:Kulttuuritehdas Vernissa\, Tikkurilantie 36\, Vantaa\, Vantaa\, 01300\, Suomi
ATTACH;FMTTYPE=image/jpeg:https://perinnejazz.fi/wp-content/uploads/2021/11/BO.jpg
END:VEVENT
END:VCALENDAR