BEGIN:VCALENDAR
VERSION:2.0
PRODID:-//perinnejazz.fi - ECPv6.15.5//NONSGML v1.0//EN
CALSCALE:GREGORIAN
METHOD:PUBLISH
X-ORIGINAL-URL:https://perinnejazz.fi
X-WR-CALDESC:Tapahtumat perinnejazz.fi
REFRESH-INTERVAL;VALUE=DURATION:PT1H
X-Robots-Tag:noindex
X-PUBLISHED-TTL:PT1H
BEGIN:VTIMEZONE
TZID:Europe/Helsinki
BEGIN:DAYLIGHT
TZOFFSETFROM:+0200
TZOFFSETTO:+0300
TZNAME:EEST
DTSTART:20220327T010000
END:DAYLIGHT
BEGIN:STANDARD
TZOFFSETFROM:+0300
TZOFFSETTO:+0200
TZNAME:EET
DTSTART:20221030T010000
END:STANDARD
END:VTIMEZONE
BEGIN:VEVENT
DTSTART;TZID=Europe/Helsinki:20220331T190000
DTEND;TZID=Europe/Helsinki:20220331T223000
DTSTAMP:20260422T053419
CREATED:20220325T112254Z
LAST-MODIFIED:20220325T112254Z
UID:4765-1648753200-1648765800@perinnejazz.fi
SUMMARY:Vaskivuori Big Band
DESCRIPTION:Koronarajoitusten purkautuessa Tikkujamit jatkuvat: \n– Vaskivuori Big Band (2 settiä) \n– Tikku House Band \nLiput 18\,- €/12\,- € jäsenet\, maksu käteisellä tai maksupäätteellä. \nPöytävaraukset: leena.svensson@kolumbus.fi tai puh. 0400 469 525. \nVernissan tiloissa on edelleen voimassa kasvomaskin käyttösuositus. Kahvila myy tuttuun tapaan juotavaa sekä pikkupurtavaa.
URL:https://perinnejazz.fi/tapahtuma/vaskivuori-big-band/
LOCATION:Kulttuuritehdas Vernissa\, Tikkurilantie 36\, Vantaa\, Vantaa\, 01300\, Suomi
ATTACH;FMTTYPE=image/jpeg:https://perinnejazz.fi/wp-content/uploads/2022/03/2008-03-06-Vaskivuori-Big-Band.jpg
END:VEVENT
END:VCALENDAR