BEGIN:VCALENDAR
VERSION:2.0
PRODID:-//perinnejazz.fi - ECPv6.15.5//NONSGML v1.0//EN
CALSCALE:GREGORIAN
METHOD:PUBLISH
X-WR-CALNAME:perinnejazz.fi
X-ORIGINAL-URL:https://perinnejazz.fi
X-WR-CALDESC:Tapahtumat perinnejazz.fi
REFRESH-INTERVAL;VALUE=DURATION:PT1H
X-Robots-Tag:noindex
X-PUBLISHED-TTL:PT1H
BEGIN:VTIMEZONE
TZID:Europe/Helsinki
BEGIN:DAYLIGHT
TZOFFSETFROM:+0200
TZOFFSETTO:+0300
TZNAME:EEST
DTSTART:20210328T010000
END:DAYLIGHT
BEGIN:STANDARD
TZOFFSETFROM:+0300
TZOFFSETTO:+0200
TZNAME:EET
DTSTART:20211031T010000
END:STANDARD
END:VTIMEZONE
BEGIN:VEVENT
DTSTART;TZID=Europe/Helsinki:20211126T180000
DTEND;TZID=Europe/Helsinki:20211126T203000
DTSTAMP:20260422T145424
CREATED:20200211T163928Z
LAST-MODIFIED:20211004T060521Z
UID:1747-1637949600-1637958600@perinnejazz.fi
SUMMARY:Dizzy Queens - svengaavaa naisenergiaa!
DESCRIPTION:DizzyQueens–bändissä laulavat ja soittavat leidit saavat tapahtumaan kuin tapahtumaan vauhtia ja tunnelmaa. Tyttöjen jazztulkinnat sekä lavakarisma eivät jätä ketään kylmäksi. Luvassa upeita a cappella -sovituksia jazzstandardeista pianotrion säestämänä. \nKokoonpano: Lidia Bäck voc\, Daniela Fogelholm voc\, Nora Grotenfelt voc sekä Sara Puljula bass\, Emilie Adolfsson piano ja Tatjaana Kuivas drums. \nPöydät lähimpänä orkesteria ovat varattuja ruokailijoille. Suosittelemmekin ilallisen nauttimista bändi-illan aikana: Caruselin monipuoliselta ruokalistalta löytyy niin raikkaita salaatteja\, piiraita ja pikkulämpimiä\, keittoja sekä pizzoja (myös gluteenittomana). \nVapaa pääsy! \n 
URL:https://perinnejazz.fi/tapahtuma/dizzy-queens-svengaavaa-naisenergiaa/
LOCATION:Café Carusel\, Merisatamanranta 10\, Helsinki\, 00150\, Suomi
CATEGORIES:Cafe Carusel
ATTACH;FMTTYPE=image/jpeg:https://perinnejazz.fi/wp-content/uploads/2020/02/DizzyQueens_by_ZsofiaPurnhauser.jpg
END:VEVENT
END:VCALENDAR