BEGIN:VCALENDAR
VERSION:2.0
PRODID:-//perinnejazz.fi - ECPv6.15.5//NONSGML v1.0//EN
CALSCALE:GREGORIAN
METHOD:PUBLISH
X-WR-CALNAME:perinnejazz.fi
X-ORIGINAL-URL:https://perinnejazz.fi
X-WR-CALDESC:Tapahtumat perinnejazz.fi
REFRESH-INTERVAL;VALUE=DURATION:PT1H
X-Robots-Tag:noindex
X-PUBLISHED-TTL:PT1H
BEGIN:VTIMEZONE
TZID:Europe/Helsinki
BEGIN:DAYLIGHT
TZOFFSETFROM:+0200
TZOFFSETTO:+0300
TZNAME:EEST
DTSTART:20210328T010000
END:DAYLIGHT
BEGIN:STANDARD
TZOFFSETFROM:+0300
TZOFFSETTO:+0200
TZNAME:EET
DTSTART:20211031T010000
END:STANDARD
END:VTIMEZONE
BEGIN:VEVENT
DTSTART;TZID=Europe/Helsinki:20211101T190000
DTEND;TZID=Europe/Helsinki:20211101T213000
DTSTAMP:20260422T145425
CREATED:20210922T081305Z
LAST-MODIFIED:20211025T185220Z
UID:3486-1635793200-1635802200@perinnejazz.fi
SUMMARY:TAKAPOTKUN TAIKAA\, kakkosnelonen jazzin rakennuspalikkana -kirjan julkistamiskonsertti
DESCRIPTION:Suomen PerinneJazz ry:n kirjauutuus julkistetaan Savoy-teatterissa ma 1.11.2021 klo 19.00 konsertissa ”The Best of Classic Jazz – Classic Jazz Society All Stars”. Liput alkaen 36\,50 eur/kpl\, jäsenet 33\,50 eur/kpl TÄSTÄ \nSeppo Hovi\, piano\, harmonikka\, tarinat – Antti Sarpila\, klarinetti\, sopraanosaksofoni – Jukka Eskola\, trumpetti – Antti Rissanen\, pasuuna\, Pekka Toivanen\, tenorisaksofoni\, alttosaksofoni\, klarinetti – Wade Mikkola\, kontrabasso – Thomas Rönnholm\, rummut. \n\n		\n		\n			\n				\n			\n				\n				Seppo Hovi tarinoi\n				\n			\n				\n			\n				\n				Antti Sarpila  \n				\n			\n				\n			\n				\n				Jukka Eskola\n				\n			\n				\n			\n				\n				Antti Rissanen\n				\n		\n\n\n		\n		\n			\n				\n			\n				\n				Pekka Toivanen\n				\n			\n				\n			\n				\n				Wade Mikkola\n				\n			\n				\n			\n				\n				Thomas Rönnholm\n				\n		\n\nKirjaa ja levyä myydään myös konserttikiertueella: \nti 2.11.2021 klo 19.00 Kangasala\, Kangasalatalo. Liput alkaen 27\,50 eur/kpl TÄSTÄ \nke 3.11.2021 klo 19.00 Turku\, Sigyn -sali\,  liput alkaen 36\,50 eur/kpl\, jäsenet 33\,50 eur/kpl TÄSTÄ \nto 4.11.2021 klo 19.00 Lahti\, Felix Krohn -sali\, liput alkaen 36\,50 eur/kpl\, jäsenet 33\,50 eur/kpl TÄSTÄ \n 
URL:https://perinnejazz.fi/tapahtuma/takapotkun-taikaa-kakkosnelonen-jazzin-rakennuspalikkana-kirjan-julkistamiskonsertti/
LOCATION:Savoy Teatteri\, Eteläesplanadi 14\, Helsinki\, 00100\, Suomi
ATTACH;FMTTYPE=image/jpeg:https://perinnejazz.fi/wp-content/uploads/2021/09/tr-kansi.jpg
END:VEVENT
END:VCALENDAR