BEGIN:VCALENDAR
VERSION:2.0
PRODID:-//perinnejazz.fi - ECPv6.15.5//NONSGML v1.0//EN
CALSCALE:GREGORIAN
METHOD:PUBLISH
X-ORIGINAL-URL:https://perinnejazz.fi
X-WR-CALDESC:Tapahtumat perinnejazz.fi
REFRESH-INTERVAL;VALUE=DURATION:PT1H
X-Robots-Tag:noindex
X-PUBLISHED-TTL:PT1H
BEGIN:VTIMEZONE
TZID:Europe/Helsinki
BEGIN:DAYLIGHT
TZOFFSETFROM:+0200
TZOFFSETTO:+0300
TZNAME:EEST
DTSTART:20210328T010000
END:DAYLIGHT
BEGIN:STANDARD
TZOFFSETFROM:+0300
TZOFFSETTO:+0200
TZNAME:EET
DTSTART:20211031T010000
END:STANDARD
END:VTIMEZONE
BEGIN:VEVENT
DTSTART;TZID=Europe/Helsinki:20211027T173000
DTEND;TZID=Europe/Helsinki:20211027T210000
DTSTAMP:20260422T162643
CREATED:20200805T181710Z
LAST-MODIFIED:20211025T120103Z
UID:2277-1635355800-1635368400@perinnejazz.fi
SUMMARY:Djangomania avaa Nyyrikin jazz-illat
DESCRIPTION:– SPJ:n syksyn jazztapahtumat ravintola Nyyrikissä aloittaa letkeästi svengaava Djangomania. \nOhjelma: \n\n17.30 – 18.00  Myynnissä mm. SPJ:n uunituore kirjauutuus ”TAKAPOTKUN TAIKAA\, kakkosnelonen jazzin rakennuspalikkana” sekä ”The Best of Finnish Classic Jazz” tupla-CD\n18.00 – 18.45   Elokuva: VPK Jamit osa 1. koonnut Pepe Teirikari\n18.45 – 19.30 Djangomania feat. Johannes Niskanen setti 1\n19.30 – 20.00 ”Jazztyttö” kirjan esittely\,\n20.00 – 20.45 Djangomania feat. Johannes Niskanen setti 2\nTilaisuus päättyy 21.00.\n\nKitaristi Vesa Tompurin vuonna 2005 kokoaman Djangomanian tyylissä yhdistyvät ranskalainen eleganssi\, amerikkalainen swing ja hilpeän romanttinen suomalaisiskelmä – mustalaismusiikkielementeillä maustettuna. \nYhtyeessä soittavat 27.10 Tompurin lisäksi  Antti Korhola\, viulu  (Arto Nybomin tuuraaja) ja Kari Korpinen (b) sekä feat. Johannes Niskanen\, hanuri. Pojat esiintyvät sekä akustisesti että sähköisesti\, niin sisällä kuin ulkona\, yksityisesti ja julkisesti\, mutta aina antaumuksella ja huumorilla. \nVesa Tompuri (s. 1957) on päivätyönään kustannusjohtaja. Hän perusti vuonna 1997 Aviador-yhtiön\, joka keskittyy ammattilehtiviestintään ja tapahtumajärjestelyihin. Musiikin ja kirjallisuuden rakastaja ansaitsee leipänsä tilaustöitä kirjoittamalla. \n\n		\n		\n			\n				\n			\n				\n				Antti Korhola\, KUVA Jari Flinck\n				\n			\n				\n			\n				\n				Johannes Niskanen\n				\n			\n				\n			\n				\n				Jazztyttö\n				\n		\n\n  \nKari Korpinen (s. 1956) on kokenut basson ammattilainen\, jolla on muusikkotaustaa niin kaduilta kuin sinfoniaorkestereista sekä big bandeista ja muista jazzkokoonpanoista. Sekä ”lappuja” suvereenisti lukevana että spontaanisti hetkeen tarttuvana muusikkona Korpinen on ollut pitkään kysytty muusikko\, oli genre lähes mikä tahansa. \nVuoden 2009 Jazzdiggariksi valitun Eila Kaarresalo-Kasarin (s. 1942) 520-sivuisen ”Jazztyttö” teoksen arvio löytyy tästä. Jazzrytmien päätoimittaja Osku Rajala mukaan ”Kirja on hurja paketti jazzin soittajia\, filmi- ym kuuluisuuksia…. Yhdenlainen elämänkerta\, joka hakee tietyiltä osiltaan vertaistaan. Käsinkosketeltavuus jazzin ja suuren maailman julkimoihin on hieno kattaus menneiden vuosikymmenten historiaa…. \nTapahtumaan on vapaa pääsy! \nLämpimästi tervetuloa\, terveenä ja koronarokotettuna! \nRavintola Nyyrikki\, Pohjolankatu 2\, 00610 Helsinki (Käpylä)\nwww.nyyrikki.net\, puhelin (09) 757 2299 \n 
URL:https://perinnejazz.fi/tapahtuma/djangomania-ja-vpk-jamit-avaavat-spjn-syyskauden/
LOCATION:Ravintola Nyyrikki\, Pohjolankatu 2\, Helsinki\, 00610\, Suomi
ATTACH;FMTTYPE=image/jpeg:https://perinnejazz.fi/wp-content/uploads/2021/10/vesa_t-kari_k.jpg
END:VEVENT
END:VCALENDAR