BEGIN:VCALENDAR
VERSION:2.0
PRODID:-//perinnejazz.fi - ECPv6.15.5//NONSGML v1.0//EN
CALSCALE:GREGORIAN
METHOD:PUBLISH
X-ORIGINAL-URL:https://perinnejazz.fi
X-WR-CALDESC:Tapahtumat perinnejazz.fi
REFRESH-INTERVAL;VALUE=DURATION:PT1H
X-Robots-Tag:noindex
X-PUBLISHED-TTL:PT1H
BEGIN:VTIMEZONE
TZID:Europe/Helsinki
BEGIN:DAYLIGHT
TZOFFSETFROM:+0200
TZOFFSETTO:+0300
TZNAME:EEST
DTSTART:20210328T010000
END:DAYLIGHT
BEGIN:STANDARD
TZOFFSETFROM:+0300
TZOFFSETTO:+0200
TZNAME:EET
DTSTART:20211031T010000
END:STANDARD
END:VTIMEZONE
BEGIN:VEVENT
DTSTART;TZID=Europe/Helsinki:20211001T183000
DTEND;TZID=Europe/Helsinki:20211001T223000
DTSTAMP:20260422T162644
CREATED:20210910T111852Z
LAST-MODIFIED:20210914T060021Z
UID:3310-1633113000-1633127400@perinnejazz.fi
SUMMARY:"Instituutio ja legenda" Caruselissa pe 1.10. klo 18.30
DESCRIPTION:Caruselin ”Legendaillat” jatkuvat pe 1.10. klo 18.30. Lauteille nousee 63-vuotias\, ikinuori Downtown Dixie Tigers alias DDT Jazzband. Alkuperäisjäsenistä mukana on edelleen Fred Andersson\, joka soitti ensimmäisen julkisen keikkansa vapun aattona 1953. Hänet nimettiin Suomen Jazzlegendaksi nro 31 vuonna 2018. DDT:n basistista Pentti Mutikaisesta tuli jazzlegenda nro 20 vuonna 2010. \nFred innostui jazzista 11-vuotiaana kuultuaan Pariisissa opiskelleen sisarensa värikkäitä tarinoita paikallisista jazzluolista. Sisar oli tutustunut myös Sidney Bechetiin eräällä jazzclubilla. Merikapteeni isä toi Fredille klarinetin Amsterdamista vuonna 1951. \n– Olisin halunnut soittaa trumpettia. Isäni ei ollut kuitenkaan muistanut pitikö se olla klarinetti vai trumpetti. Suomessa soittimet olivat sodan jälkeen kiven alla. Vieläkin harmittaa\, etten saanut trumpettia. \n\n		\n		\n			\n				\n			\n				\n				Fred Andersson\n				\n			\n				\n			\n				\n				Pentti Mutikainen\n				\n			\n				\n			\n				\n				Christian Schwindt 1940-1992\n				\n			\n				\n			\n				\n				DDT 2020 \n				\n		\n\nFred aloitti heti soittamisen itse opiskellen. Hän kuunteli mm. Benny Goodmania\, Sidney Bechetiä ja Edmond Hallia. Mestareiden soundit tarttuivat hänen päähänsä. Goodmanin soundit tuntuivat Fredistä vaikealta\, Bechetin jazz oli selkeämpää ja suoraviivaista. \nFredin mielessä siinteli merikapteenin ura isänsä jalanjälkiä seuraten. Hän halusi lähteä merille monien kavereittensa tapaan. Isä oli kuitenkin toista mieltä eikä päästänyt. Koulu ja opiskelut piti saattaa ensin loppuun. Fred valmistui hammaslääkäriksi vuonna 1964 ja aloitti heti oman praktiikan. Soittaminen kulki koko ajan rinnalla. \nFred Andersson pitää DDT:n ”kultakautena” 1980-lukua. Yhtye teki kiireisimpinä aikoina jopa 130 keikkaa vuodessa. – DDT-soundi ja komppi oli parhaimmillaan Chrisse Schwindtin aikaan. Oli pakko soittaa hyvin\, koska hän rupesi huutamaan\, jos soitti huonosti. \nDDT esiintyy Caruselissa kokoonpanossa: Fred Andersson (leader\, cl)\, Niklas Andersson (tpt)\, Raimo Näätänen (tbn)\, Joonatan Rautio (sax)\, Ilkka Joronen (p)\, Pekka Mesimäki (bjo)\, Pentti Mutikainen (b) ja Heikki Sandren (dm). \nVapaa pääsy\, baari avautuu klo 18.00 \nwww.carusel.fi \nJärjestäjä: Suomen PerinneJazz ry\, Pepe Teirikari\, puh. 040 903 0635 \nArtikkelikuva: Harri Ahola/Helsingin kaupungin museo.  DDT legendaarisesta Groovyssa 1978: Raimo Näätänen (vas.)\, Pekka Mesimäki\, Pentti Mutikainen\, Rick Walstein\, Fred Andersson\, Chrisse Schwindt (Fredin takana) ja Nalle Nyman
URL:https://perinnejazz.fi/tapahtuma/instituutio-ja-legenda-caruselissa-pe-1-10-klo-18-30/
LOCATION:Café Carusel\, Merisatamanranta 10\, Helsinki\, 00150\, Suomi
ATTACH;FMTTYPE=image/jpeg:https://perinnejazz.fi/wp-content/uploads/2021/09/ddt-1978-K-Harri-Ahola-Hgin-kaup-museo.jpg
END:VEVENT
END:VCALENDAR