BEGIN:VCALENDAR
VERSION:2.0
PRODID:-//perinnejazz.fi - ECPv6.15.5//NONSGML v1.0//EN
CALSCALE:GREGORIAN
METHOD:PUBLISH
X-WR-CALNAME:perinnejazz.fi
X-ORIGINAL-URL:https://perinnejazz.fi
X-WR-CALDESC:Tapahtumat perinnejazz.fi
REFRESH-INTERVAL;VALUE=DURATION:PT1H
X-Robots-Tag:noindex
X-PUBLISHED-TTL:PT1H
BEGIN:VTIMEZONE
TZID:Europe/Helsinki
BEGIN:DAYLIGHT
TZOFFSETFROM:+0200
TZOFFSETTO:+0300
TZNAME:EEST
DTSTART:20210328T010000
END:DAYLIGHT
BEGIN:STANDARD
TZOFFSETFROM:+0300
TZOFFSETTO:+0200
TZNAME:EET
DTSTART:20211031T010000
END:STANDARD
END:VTIMEZONE
BEGIN:VEVENT
DTSTART;TZID=Europe/Helsinki:20210731T161500
DTEND;TZID=Europe/Helsinki:20210731T171500
DTSTAMP:20260422T193154
CREATED:20210601T062053Z
LAST-MODIFIED:20210725T044420Z
UID:3002-1627748100-1627751700@perinnejazz.fi
SUMMARY:35. Otava Happy Jazz - Classic Jazz Society All Stars by Seppo Hovi & Antti Sarpila
DESCRIPTION:Classic Jazz Society All Stars by Seppo Hovi & Antti Sarpila esiintyy Otava Happy Jazzeilla la 31.7. klo 16.15 – 17.15. Orkesteri koostuu maamme huippumuusikoista perinteisen jazzin alueelta. Orkesterin musiikillisesta johdosta vastaa klarinetisti/saxofonisti Antti Sarpila ja kappaleiden tarinat taustoittaa pianisti/hanuristi Seppo Hovi. Orkesterin basistina toimii Wade Mikkola\,  Pekka Toivanen – saxofonit\, Martti Vesala – trumpetti\, Antti Rissanen –pasuuna\, Wade Mikkola – basso\, Thomas Rönnholm – rummut. \nOtava Happy Jazz -hyväntekeväisyyskonsertti svengaillaan Otavan Opiston viehättävässä puistossa nyt jo 35. kerran. Luvassa on jälleen wanhaa iloista ja nuorempaakin jazzia\, rentoa yhdessäoloa\, hyvää meininkiä ja Auringonpaistetta. ​Konsertin tuotto käytetään lyhentämättömänä hyväntekeväisyyteen pääasiassa Mikkelin alueella. Lions Club Otavan kohderyhmänä ovat nuoriso- vanhus- ja vammaistyö. Ostamalla pääsylipun olet tukemassa tärkeää työtä.
URL:https://perinnejazz.fi/tapahtuma/35-otava-happy-jazz-classic-jazz-society-all-stars-by-seppo-hovi-antti-sarpila/
LOCATION:Otavan Opisto\, Otavantie 2\, Otava\, Mikkeli\, 50670\, Suomi
ATTACH;FMTTYPE=image/jpeg:https://perinnejazz.fi/wp-content/uploads/2021/05/sar-hov-1000.jpg
END:VEVENT
END:VCALENDAR