BEGIN:VCALENDAR
VERSION:2.0
PRODID:-//perinnejazz.fi - ECPv6.15.5//NONSGML v1.0//EN
CALSCALE:GREGORIAN
METHOD:PUBLISH
X-ORIGINAL-URL:https://perinnejazz.fi
X-WR-CALDESC:Tapahtumat perinnejazz.fi
REFRESH-INTERVAL;VALUE=DURATION:PT1H
X-Robots-Tag:noindex
X-PUBLISHED-TTL:PT1H
BEGIN:VTIMEZONE
TZID:Europe/Helsinki
BEGIN:DAYLIGHT
TZOFFSETFROM:+0200
TZOFFSETTO:+0300
TZNAME:EEST
DTSTART:20210328T010000
END:DAYLIGHT
BEGIN:STANDARD
TZOFFSETFROM:+0300
TZOFFSETTO:+0200
TZNAME:EET
DTSTART:20211031T010000
END:STANDARD
END:VTIMEZONE
BEGIN:VEVENT
DTSTART;TZID=Europe/Helsinki:20210710T130000
DTEND;TZID=Europe/Helsinki:20210710T143000
DTSTAMP:20260422T211730
CREATED:20210601T053854Z
LAST-MODIFIED:20210601T055513Z
UID:2996-1625922000-1625927400@perinnejazz.fi
SUMMARY:BALTIC JAZZ 2021 - THE BEST OF CLASSIC JAZZ IN FINLAND
DESCRIPTION:Classic Jazz Society All Stars by Seppo Hovi & Antti Sarpila esiintyi Baltic Jazzeilla la 10.7. klo 13.00-14.30. All Stars koostuu maamme huippumuusikoista perinteisen jazzin alueelta. Orkesterin musiikillisesta johdosta vastaa klarinetisti/saxofonisti Antti Sarpila ja kappaleiden tarinat taustoittaa pianisti/hanuristi Seppo Hovi. Orkesterin basistina toimii Wade Mikkola\, muut muusikot ilmoitetaan myöhemmin. \nJo vuodesta 1987 järjestetty Baltic Jazz-festivaali on viihtyisä koko perheen tapahtuma Taalintehtaan historiallisessa ruukkimiljöössä\, jossa klassisen jazzin ja swingin eri tyylisuunnat yhdistyvät saumattomasti muihin musiikkisuuntauksiin. Tarjolla on tasapainoinen sekoitus klassista jazzia\, bluesia sekä rockia ja ohjelmassa yhdistyvät niin kansainväliset huippukokoonpanot kuin paikalliset nimetkin. \nLiput tästä.
URL:https://perinnejazz.fi/tapahtuma/baltic-jazz-2021-the-best-of-classic-jazz-in-finland/
LOCATION:Taalintehdas\, Suomi
ATTACH;FMTTYPE=image/jpeg:https://perinnejazz.fi/wp-content/uploads/2021/05/sar-hov-1000.jpg
END:VEVENT
END:VCALENDAR