BEGIN:VCALENDAR
VERSION:2.0
PRODID:-//perinnejazz.fi - ECPv6.15.5//NONSGML v1.0//EN
CALSCALE:GREGORIAN
METHOD:PUBLISH
X-ORIGINAL-URL:https://perinnejazz.fi
X-WR-CALDESC:Tapahtumat perinnejazz.fi
REFRESH-INTERVAL;VALUE=DURATION:PT1H
X-Robots-Tag:noindex
X-PUBLISHED-TTL:PT1H
BEGIN:VTIMEZONE
TZID:Europe/Helsinki
BEGIN:DAYLIGHT
TZOFFSETFROM:+0200
TZOFFSETTO:+0300
TZNAME:EEST
DTSTART:20200329T010000
END:DAYLIGHT
BEGIN:STANDARD
TZOFFSETFROM:+0300
TZOFFSETTO:+0200
TZNAME:EET
DTSTART:20201025T010000
END:STANDARD
END:VTIMEZONE
BEGIN:VEVENT
DTSTART;TZID=Europe/Helsinki:20200915T190000
DTEND;TZID=Europe/Helsinki:20200915T220000
DTSTAMP:20260423T140606
CREATED:20200218T051837Z
LAST-MODIFIED:20200425T005831Z
UID:1908-1600196400-1600207200@perinnejazz.fi
SUMMARY:Suomalaisen Klubin Jazzkvintetin 20-vuotiskonsertti - Siirtymässä ensi vuoden alkuun
DESCRIPTION:Suomalaisen Klubin Jazzkvintetin 20-vuotiskonsertti.  Solistina laulaa Johanna Försti\nAntti Sarpila\nPekka Toivanen\nPekka Sarmanto\nJarza Karvonen\nSeppo Hovi \nAjankohta ilmoitetaan myöhemmin. \n 
URL:https://perinnejazz.fi/tapahtuma/suomen-perinnejazz-ry-konsertti/
LOCATION:Savoy Teatteri\, Eteläesplanadi 14\, Helsinki\, 00100\, Suomi
ATTACH;FMTTYPE=image/jpeg:https://perinnejazz.fi/wp-content/uploads/2020/04/johanna-försti-e1587723536595.jpg
END:VEVENT
END:VCALENDAR