BEGIN:VCALENDAR
VERSION:2.0
PRODID:-//perinnejazz.fi - ECPv6.15.5//NONSGML v1.0//EN
CALSCALE:GREGORIAN
METHOD:PUBLISH
X-WR-CALNAME:perinnejazz.fi
X-ORIGINAL-URL:https://perinnejazz.fi
X-WR-CALDESC:Tapahtumat perinnejazz.fi
REFRESH-INTERVAL;VALUE=DURATION:PT1H
X-Robots-Tag:noindex
X-PUBLISHED-TTL:PT1H
BEGIN:VTIMEZONE
TZID:Europe/Helsinki
BEGIN:DAYLIGHT
TZOFFSETFROM:+0200
TZOFFSETTO:+0300
TZNAME:EEST
DTSTART:20200329T010000
END:DAYLIGHT
BEGIN:STANDARD
TZOFFSETFROM:+0300
TZOFFSETTO:+0200
TZNAME:EET
DTSTART:20201025T010000
END:STANDARD
END:VTIMEZONE
BEGIN:VEVENT
DTSTART;TZID=Europe/Helsinki:20200701T120000
DTEND;TZID=Europe/Helsinki:20200706T010000
DTSTAMP:20260423T171701
CREATED:20200216T145146Z
LAST-MODIFIED:20200426T032251Z
UID:1849-1593604800-1593997200@perinnejazz.fi
SUMMARY:Baltic Jazz 2020 - SIIRRETTY 2021
DESCRIPTION:Baltic Jazz on vuonna 1987 perustettu svengaava musiikkifestivaali\, joka järjestetään joka vuosi heinäkuun ensimmäisen viikonlopun aikana\, kun kesä on kauneimmillaan. Vuosien saatossa kasvanut Baltic Jazz on onnistunut säilyttämään alkuperäisen lämminhenkisyytensä ja ylistetyn tunnelmansa. Festivaali tarjoaa tasapainoisen sekoituksen klassista jazzia\, bluesia sekä rockia Taalintehtaan ainutlaatuisessa ruukkiympäristössä. \nBaltic Jazz-festivaalia vietetään 3.-5. heinäkuuta\, mutta tällä kertaa festivaali ottaa varaslähdön jo ennen perinteistä Varaslähtö-konserttia Kasnäsissa\, jossa Antti Sarpila esiintyy Baltic Jazz Trion kanssa. Archipelago Small Band esiintyy jo 1. heinäkuuta Taalintehtaan perinteikkään toripäivän ilmaiskonsertissa. Tänä vuonna ilmaisohjelmaa on tarjolla entistä enemmän uuden ohjelmaidean myötä: Baltic Jazz Teaserit jazzkadulla tarjoavat esimakua tulevista konserteista. \nMaarian vpk:n soittokunta \nPerjantaina aloitetaan Open Stage-tilaisuudella. Viime vuoden suosion ansiosta tarjolla on nyt lisää esiintymisaikoja ja ennakko-ilmoittautumisia otetaan vastaan sähköpostitse (baltic.jazz@kimitoon.fi). 33. festivaali avataan virallisesti perinteisellä tavalla Maarian VPK:n soittokunnan seurassa ja tämä on samalla lähtölaukaus uudelle Archipelago Sea Jazz-festivaalisarjalle. \nSarjan neljä festivaalia ovat edustettuina avajaisten yhteydessä esiintyvässä Archipelago Sea Jazz All Stars-kokoonpanossa. Viikonlopun aikana myös seuraavat esiintyjät ovat kuunneltavissa jazzkadun lavalla: Kimito Island Big Band\, Kake & Co\, Turku Firehouse Brass Band ja She’s Leaving Home – A Beatles Tribute. \nPerjantain ohjelma jatkuu Taalintehtaan kirjaston kirjailijakeskustelulla ja Baltic Gospel Singersin kirkkokonsertilla. Toivotuimmat jazzkappaleet soivat Verstaalla Seppo Hovin ja Uusi Radion Rytmi-Pojat-kokoonpanon seurassa. Tarinat vuorottelevat musiikin kanssa sekä Toivejazzit-konsertissa että sunnuntain päätöskonsertissa\, jossa Sofia Finnilä ja Jay Kortehisto kertovat ranskalaisen säveltäjän Michel Legrandin elämästä. \nTänä vuonna yleisö saa nauttia salakapakkatunnelmasta kun vanha takkirautavalimo Verstaan vierellä otetaan käyttöön. Perjantai-iltana luvassa on jamit Baltic Jazz Trion ja vieraiden kanssa sekä Glashyttanin lasinpuhallus-show. Lauantaina vuorossa on bluesmusiikkia SeglarJerrys Ånger ja Agneta Falck-yhtyeiden seurassa. \nLauantai-ilta Verstaalla vietetään Great Gatsby-hengessä ja luvassa on sädehtivä show Estonian Dixieland Band (EST) feat. Rita Ray\, Hot Sugar Band (FR) ja Stockholm Stompers (SWE) -yhtyeiden seurassa. Illan loistokkuutta lisää tanssi-esityksillään Mildreds kompani (AX) 20-luvun tansseilla sekä Lady Laverna burleski-esityksillä. Ahvenanmaalainen tanssipari Sofia Enros ja Daniel Johansson opettavat myös Charleston-tanssia halukkaille aiemmin päivällä. \nRanskalainen Hot Sugar Band esiintyy myös lauantain piknik-konsertissa solistinaan ylistetty jazzlaulaja ja näyttelijä Nicolle Rochelle (US). Billie Holidayn uran alkuajat ovat silloin keskipisteessä ja Jukka Perko Trion kanssa juhlimme Charlie Parkerin 100-vuotisjuhlaa. Perinteistä marssimusiikkia kuullaan jazzversioina kun komeasti univormuihin sonnustautunut Kaartin Seitsikko astuu puiston lavalle Antti Sarpilan seurassa. Good Times Jazz Band ja Ami Aspelund esiintyvät Bio Ponyssa\, jolloin keskitymme New Orleansin jazzmusiikkiin. Sunnuntaina puistossa Baltic Jazz 2020 All Stars vie yleisön New Orleansista Chicagoon ja esittää miten jazzmusiikki kehittyi 20-luvulla. \nBaltic Jazz on koko perheen tapahtuma! Viime vuoden suosittu ohjelmakokonaisuus Baltic Jazz Kids saa jatkoa tänä vuonna ja luvassa on Sirkusjuhlat\, Muumit & Benny Törnroos sekä Tanssiva ja soiva satutunti. Lipulla pääsee myös ilmaiseksi kaikenikäisille tarkoitettuun Charleston-tanssiworkshoppiin\, joka alkaa heti satutunnin jälkeen samassa tilassa. Baltic Jazz Kids-ohjelmaa ja K-18-konsertteja lukuun ottamatta alle 12-vuotiaat osallistuvat ilmaiseksi konsertteihin vanhemman seurassa ja 12–17-vuotiaat osallistuvat puoleen hintaan. \nKoko sunnuntaipäivä on myös täynnä ohjelmaa. Jazz jumalanpalveluksen\, puisto- ja päätöskonsertin sekä kahden ilmaiskonsertin lisäksi tarjolla on Charlie Chaplinin mykkäelokuvia\, joita Antti Sarpila säestää pianolla Tin Pan Alley-aikakauden musiikilla. Festivaalin päätteeksi päästetään vielä ilo irti Verstaalla kun Blue Elephant\, Apollo Orchestra ja TrrTrrTrr astuvat lavalle.
URL:https://perinnejazz.fi/tapahtuma/baltic-jazz/
LOCATION:Taalintehdas\, Suomi
ATTACH;FMTTYPE=image/jpeg:https://perinnejazz.fi/wp-content/uploads/2020/02/antti-sarpila-50-v.-konsertti-ruusut.jpg
END:VEVENT
END:VCALENDAR