BEGIN:VCALENDAR
VERSION:2.0
PRODID:-//perinnejazz.fi - ECPv6.15.5//NONSGML v1.0//EN
CALSCALE:GREGORIAN
METHOD:PUBLISH
X-ORIGINAL-URL:https://perinnejazz.fi
X-WR-CALDESC:Tapahtumat perinnejazz.fi
REFRESH-INTERVAL;VALUE=DURATION:PT1H
X-Robots-Tag:noindex
X-PUBLISHED-TTL:PT1H
BEGIN:VTIMEZONE
TZID:Europe/Helsinki
BEGIN:DAYLIGHT
TZOFFSETFROM:+0200
TZOFFSETTO:+0300
TZNAME:EEST
DTSTART:20200329T010000
END:DAYLIGHT
BEGIN:STANDARD
TZOFFSETFROM:+0300
TZOFFSETTO:+0200
TZNAME:EET
DTSTART:20201025T010000
END:STANDARD
END:VTIMEZONE
BEGIN:VEVENT
DTSTART;TZID=Europe/Helsinki:20200527T173000
DTEND;TZID=Europe/Helsinki:20200527T220000
DTSTAMP:20260423T204258
CREATED:20200211T164431Z
LAST-MODIFIED:20200414T080215Z
UID:1755-1590600600-1590616800@perinnejazz.fi
SUMMARY:Corville Band - HUOM TAPAHTUMA PERUTTU
DESCRIPTION:
URL:https://perinnejazz.fi/tapahtuma/corville-band/
LOCATION:Ravintola Nyyrikki\, Pohjolankatu 2\, Helsinki\, 00610\, Suomi
CATEGORIES:Ravintola Nyyrikki
ATTACH;FMTTYPE=image/jpeg:https://perinnejazz.fi/wp-content/uploads/2019/10/kalenteri4.jpg
END:VEVENT
END:VCALENDAR