BEGIN:VCALENDAR
VERSION:2.0
PRODID:-//perinnejazz.fi - ECPv6.15.5//NONSGML v1.0//EN
CALSCALE:GREGORIAN
METHOD:PUBLISH
X-WR-CALNAME:perinnejazz.fi
X-ORIGINAL-URL:https://perinnejazz.fi
X-WR-CALDESC:Tapahtumat perinnejazz.fi
REFRESH-INTERVAL;VALUE=DURATION:PT1H
X-Robots-Tag:noindex
X-PUBLISHED-TTL:PT1H
BEGIN:VTIMEZONE
TZID:Europe/Helsinki
BEGIN:DAYLIGHT
TZOFFSETFROM:+0200
TZOFFSETTO:+0300
TZNAME:EEST
DTSTART:20200329T010000
END:DAYLIGHT
BEGIN:STANDARD
TZOFFSETFROM:+0300
TZOFFSETTO:+0200
TZNAME:EET
DTSTART:20201025T010000
END:STANDARD
END:VTIMEZONE
BEGIN:VEVENT
DTSTART;TZID=Europe/Helsinki:20200311T190000
DTEND;TZID=Europe/Helsinki:20200311T220000
DTSTAMP:20260423T234842
CREATED:20200215T071027Z
LAST-MODIFIED:20200217T192342Z
UID:1830-1583953200-1583964000@perinnejazz.fi
SUMMARY:The Great Helsinki Swing Big Band - All That Jazz
DESCRIPTION:Solistina Hanna Pakarinen\, kapellimestarina Antti Rissanen \nSwing Big Bandin solistina laulaa Suomen ensimmäisen Idols-kilpailun vuonna 2004 voittanut Hanna Pakarinen. Pakarinen edusti Suomea vuoden 2007 Eurovision laulukilpailuissa Helsingissä kappaleella ”Love me or leave me”. Swing big bandin solistina Hanna tulkitsee swingin kulta-ajan suosikkilaulujaan \nLiput 21\,50 €
URL:https://perinnejazz.fi/tapahtuma/the-great-helsinki-swing-big-band-all-that-jazz/
LOCATION:Malmitalo\, Ala-Malmin tori 1\, Helsinki\, 00700
ATTACH;FMTTYPE=image/jpeg:https://perinnejazz.fi/wp-content/uploads/2020/02/ghsbb.jpg
END:VEVENT
END:VCALENDAR