BEGIN:VCALENDAR
VERSION:2.0
PRODID:-//perinnejazz.fi - ECPv6.15.5//NONSGML v1.0//EN
CALSCALE:GREGORIAN
METHOD:PUBLISH
X-WR-CALNAME:perinnejazz.fi
X-ORIGINAL-URL:https://perinnejazz.fi
X-WR-CALDESC:Tapahtumat perinnejazz.fi
REFRESH-INTERVAL;VALUE=DURATION:PT1H
X-Robots-Tag:noindex
X-PUBLISHED-TTL:PT1H
BEGIN:VTIMEZONE
TZID:Europe/Helsinki
BEGIN:DAYLIGHT
TZOFFSETFROM:+0200
TZOFFSETTO:+0300
TZNAME:EEST
DTSTART:20200329T010000
END:DAYLIGHT
BEGIN:STANDARD
TZOFFSETFROM:+0300
TZOFFSETTO:+0200
TZNAME:EET
DTSTART:20201025T010000
END:STANDARD
END:VTIMEZONE
BEGIN:VEVENT
DTSTART;TZID=Europe/Helsinki:20200306T180000
DTEND;TZID=Europe/Helsinki:20200306T213000
DTSTAMP:20260423T234751
CREATED:20200228T200736Z
LAST-MODIFIED:20200228T200736Z
UID:2141-1583517600-1583530200@perinnejazz.fi
SUMMARY:Sami Saari ja Jazzpojat
DESCRIPTION:Sami Saari ja Jazzpojat -yhtyeen musiikki on korvia hivelevää ja tanssittavan svengaavaa jazzia ja soulia meiltä ja muualta. Suomalaisen soulmusiikin pienviljelijänä ja suurkuluttajana tunnettu Saari on aina ollut sielultaan jazzmies ja on siitä syystä koonnut yhtyeen jossa vahva solismi sekä pettämätön svengi yhdistävät voimansa karismaattisen solistin kanssa. Yhtye julkaisi debyyttialbuminsa vuonna 2018 ja keikkailee ahkerasti ympäri Suomea. \nSami Saari – laulu ja kitara\nMikael Myrskog – piano\nEero Seppä – basso\nVille Pynssi  – rummut \nPöydät lähimpänä orkesteria ovat varattuja ruokailijoille.Suosittelemmekin ilallisen nauttimista bändi-illan aikana: Caruselin monipuoliselta ruokalistalta löytyy niin raikkaita salaatteja\, piiraita ja pikkulämpimiä\, keittoja sekä pizzoja (myös gluteenittomana).
URL:https://perinnejazz.fi/tapahtuma/sami-saari-ja-jazzpojat/
LOCATION:Café Carusel\, Merisatamanranta 10\, Helsinki\, 00150\, Suomi
ATTACH;FMTTYPE=image/jpeg:https://perinnejazz.fi/wp-content/uploads/2020/02/jazzpojat-uusin_orig.jpg
END:VEVENT
BEGIN:VEVENT
DTSTART;TZID=Europe/Helsinki:20200306T190000
DTEND;TZID=Europe/Helsinki:20200308T200000
DTSTAMP:20260423T234751
CREATED:20200215T052216Z
LAST-MODIFIED:20200217T191405Z
UID:1806-1583521200-1583697600@perinnejazz.fi
SUMMARY:Åkes Jazzfestival
DESCRIPTION:DDT Jazzband esiintyy Åken Jazzfestivaaleilla Kauniaisissa 6.3. – Haluamme kunnioittaa Åke Grandellin muistoa debyytillämme. Teimme pitkään yhteistyötä Åken kanssa ja hän mm. toimi juontajana meidän konserteissamme\, sanoo DDT:n banjisti/kitaristi Pekka Mesimäki. \nDDT Jazzband eli Downtown Dixie Tigers on vuodesta 1958 alkaen pitänyt yllä perinteisen jazzin lippua Suomessa. Orkesteri on lajissaan maamme vanhin ja kansainvälisesti tunnetuin. ”Svengin Vanhemmat Valtiomiehet” esiintyvät edelleen säännöllisesti ja ovat erinomaisessa soittovireessä. \nDDT koottiin alun perin kauppatieteen opiskelijoiden urheilupäivän viihteeksi. Tv:n jazzohjelmien vetäjä Jaakko Jahnukainen keksi bändille Downtown Dixie Tigers -nimen. Nimi viittasi useimpien musikanttien etelähelsinkiläiseen taustaan. Myöhemmin se lyheni DDT:ksi – tunnetun tuholaismyrkyn mukaan. \nGrani Big Bandin rumpali Rabbe Hjeltin mukaan festivaali on musiikkitoimittaja Åke Grandellin (1938-2015) perustama ja Kauniaisten suurin vuosittainen jazztapahtuma. Sitä vietetään tänä vuonna kahdeksatta kertaa 6.- 8.3.2020 Uudella Paviljongilla ja Kauniaisten kirkossa. \nDDT:n lisäksi mukana on Grani Big Band & Nina Lindroos & Mikko-Ville Luolajan-Mikkola & erikoisvieraana tanskalainen saksofonisti Christina von Bülow sekä Johanna & Mikko Iivanainen Duo. \nSuosittu kauniaislainen Nina Lindroos esiintyy mm. hiljattain 20-vuotta täyttäneen Acoustic Dixie Six -yhtyeen laulusolistina. Monipuolinen muusikko Mikko-Ville Luolajan-Mikkola aloitti jazzviulistina 1970-luvulla perustamassaan Wasama Quartetissa ja on myös tunnettu säveltäjänä. \nÅken vanha ystävä\, Ben Webster -palkinnon saanut\, jazzmuusikko Christina von Bülow on tehnyt yhteistyötä mm. Stan Getzin ja Lee Konitzin kanssa ja esiintyy nyt ensimmäistä kertaa Åken Jazzfestivaalilla. \nFestivaalin päättää vuonna 1996 perustettu Johanna & Mikko Iivanainen Duo\, joka esittää lempeästi ja luonnollisesti sovitettuja jazzstandardeja Kauniaisten kirkossa. \nLiput a´ 20 eur/kpl sis. kahvitarjoilua ja narikan Uuden Paviljongin konserteissa \nLiput kannattaa varata etukäteen: info@gbb.fi tai puhelin/tekstiviesti 040-903 0000.\nJärjestäjä: Kauniaisten jazzmusiikin kannatusyhdistys ry\, www.gbb.fi \n8. Åkes Jazz Festival 6.-8.3.2020 Kauniainen \npe 6.3. klo 19.00 DDT Jazzband\, Uusi Paviljonki \nDDT Jazzband: Nalle Nyman (art. kuvassa vas.)\, Raimo Näätänen (tbn)\, Pekka Mesimäki (bjo\, gt)\, Ilkka Joronen (p)\, Thomas Rönnholm (dr)\, Pentti Mutikainen (b)\, Niklas Andersson (tp\, voc) ja Fred Andersson (cl)\, Joonatan Rautio (ts) tuuraa Nalle Nymania. \nla 7.3. klo 19.00 Nina Lindroos\, Mikko-Ville Luolajan-Mikkola & Christina von Bülow & Grani Big Band\, Uusi Paviljonki \nsu 8.3. klo 18.00 Johanna & Mikko Iivanainen\, Kauniaisten kirkko \nUusi Paviljonki\, Läntinen koulupolku 3\, 02700 Kauniainen\nKauniaisten kirkko\, Kavallintie 3\, 02700 Kauniainen
URL:https://perinnejazz.fi/tapahtuma/akes-jazzfestival/
ATTACH;FMTTYPE=image/jpeg:https://perinnejazz.fi/wp-content/uploads/2020/02/ddt-eveliina-mustonen-pak.jpg
ORGANIZER;CN="Kauniaisten jazzmusiikin kannatusyhdistys ry%2C":MAILTO:rmcx@rmcx.fi
END:VEVENT
END:VCALENDAR