BEGIN:VCALENDAR
VERSION:2.0
PRODID:-//perinnejazz.fi - ECPv6.15.5//NONSGML v1.0//EN
CALSCALE:GREGORIAN
METHOD:PUBLISH
X-ORIGINAL-URL:https://perinnejazz.fi
X-WR-CALDESC:Tapahtumat perinnejazz.fi
REFRESH-INTERVAL;VALUE=DURATION:PT1H
X-Robots-Tag:noindex
X-PUBLISHED-TTL:PT1H
BEGIN:VTIMEZONE
TZID:Europe/Helsinki
BEGIN:DAYLIGHT
TZOFFSETFROM:+0200
TZOFFSETTO:+0300
TZNAME:EEST
DTSTART:20200329T010000
END:DAYLIGHT
BEGIN:STANDARD
TZOFFSETFROM:+0300
TZOFFSETTO:+0200
TZNAME:EET
DTSTART:20201025T010000
END:STANDARD
END:VTIMEZONE
BEGIN:VEVENT
DTSTART;TZID=Europe/Helsinki:20200227T203000
DTEND;TZID=Europe/Helsinki:20200227T233000
DTSTAMP:20260423T235027
CREATED:20200224T053753Z
LAST-MODIFIED:20200225T114746Z
UID:2065-1582835400-1582846200@perinnejazz.fi
SUMMARY:Acoustic Dixie Six feat. Nina Lindroos Storyvillessä
DESCRIPTION:Perinteistä New Orleans-tyyliä kunnioittava Acoustic Dixie Six on perustettu Helsingissä 1999. Bändi on siitä lähtien pyrkinyt soittamaan iloista jazzia perinteisellä kokoonpanolla\, mahdollisimman autenttisesti mutta jättäen kuitenkin tilaa improvisoinnille ja musisoinnin riemulle. \nKokoonpano: Nina Lindroos (voc)\, Bengt-Ove Fagerhed (tb)\, Marcus Weckström (tba)\, Niklas Andersson (tpt\, voc)\, Olli Salmi (cl)\, Petri Tötterman (bjo) ja Juho Peltoniemi (d). \nKatso video edelliseltä\, tammikuun 2020 keikalta tästä! Seuraa bändiä Facebookissa tästä. \nVapaa pääsy!
URL:https://perinnejazz.fi/tapahtuma/acoustic-dixie-six/
LOCATION:Storyville\, Museokatu 8\, Helsinki\, 00100
ATTACH;FMTTYPE=image/jpeg:https://perinnejazz.fi/wp-content/uploads/2020/02/ad6Nina.jpg
END:VEVENT
END:VCALENDAR