BEGIN:VCALENDAR
VERSION:2.0
PRODID:-//perinnejazz.fi - ECPv6.15.5//NONSGML v1.0//EN
CALSCALE:GREGORIAN
METHOD:PUBLISH
X-WR-CALNAME:perinnejazz.fi
X-ORIGINAL-URL:https://perinnejazz.fi
X-WR-CALDESC:Tapahtumat perinnejazz.fi
REFRESH-INTERVAL;VALUE=DURATION:PT1H
X-Robots-Tag:noindex
X-PUBLISHED-TTL:PT1H
BEGIN:VTIMEZONE
TZID:Europe/Helsinki
BEGIN:DAYLIGHT
TZOFFSETFROM:+0200
TZOFFSETTO:+0300
TZNAME:EEST
DTSTART:20200329T010000
END:DAYLIGHT
BEGIN:STANDARD
TZOFFSETFROM:+0300
TZOFFSETTO:+0200
TZNAME:EET
DTSTART:20201025T010000
END:STANDARD
END:VTIMEZONE
BEGIN:VEVENT
DTSTART;TZID=Europe/Helsinki:20200129T173000
DTEND;TZID=Europe/Helsinki:20200129T220000
DTSTAMP:20260424T012134
CREATED:20200119T155402Z
LAST-MODIFIED:20200119T155402Z
UID:1657-1580319000-1580335200@perinnejazz.fi
SUMMARY:Nyyrikki tammikuussa 29.1. 2020 klo 17.30 alkaen
DESCRIPTION:  \n \n  \nElokuva KULUTUKSEN SÄVEL OSA 2.  Pepe Teirikari tuotanto klo 17.30 \n  \nHouseBand klo 19.00  Jamit 21.00-22.00 \nAlvi’s Dixie Stompers (ADS) \nAlvi’s Dixie Stompers perustettiin 15.11.1996 Espoossa. 8-miehisen orkesterin tavoite on soittaa 19-luvun alun iloista ja svengaavaa dixieland-\, blues- ja gospelmusiikkia paraatimusiikki New Orleans-hengessä maustettuna pohjoismaisella soittotyylillä.  \nADS on osallistunut toiminta-aikanaan 10 Classic Jazz ry:n Mikkelissä järjestämälle orkesterisoiton kurssille. Yhtye on toiminut ”house bandina” 16 vuotta Espoon Haukilahden Paviljongin Jameissa. Näistä on muodostunut suosittu jazztapahtuma\, joka kerää yhteen kerran kuussa samoin ajattelevia jazzmuusikoita ja tuvan täydeltä yleisöä hauskan yhdessäolon merkeissä viettämään iloista jazz-iltaa. Alvi’s Dixie Stompers on osallistunut useisiin festivaaleihin\, josta mainittakoon Baltic Jazz\, Pori Jazz\, Kouvola Dixie\, Kouvolan Komia\, Imatra Bigband Festival\, Kaamosjazz\, Hällevik Tradjazz Fesival ja Tradjazz Askersund.  \nKirkkokonsertteja Lohjan\, Karjalohjan\, Siuntion\, Tammisaaren\, Helsingin Pitäjänmäen\, Temppeliaukion ja Vanhassa kirkoissa. \nSolistit: \nOrkesterin laulusolisteina on toiminut Hannah Wilson\, Caron Barnes\, Marle Mikkola\, Bianca Morales\, Calle Krokfors ja nyt Pasi Saarelma.  \nMarssikulkueen seremoniamestarina on toiminut jamaikalaissyntyinen Uriel Hylton. \nOrkesterin jäsenet: \nAlvi Leppälä sopraanosaks.\, C melodysaksofoni \nKimmo Leppälä klarinetti\, sopraanisaks.\, tenorisaksofoni \nJyrki Leppälä pasuuna \nCajus Lindroth kornetti \nValeri Nikitin piano\, marssirumpu \nJarmo Nissinen banjo \nKenneth Ojutkangas tuuba\, sousafoni \nErkki Hurri rummut \nPasi Saarelma laulu\, pyykkilauta \nalvileppala@gmail.com \nwww.alvisdixiestompers.com \nOrkesterin perustaja ja johtaja Alvi Leppälä puh +358-400-602 526
URL:https://perinnejazz.fi/tapahtuma/nyyrikki-tammikuussa-29-1-2020-klo-17-30-alkaen/
LOCATION:Ravintola Nyyrikki\, Pohjolankatu 2\, Helsinki\, 00610\, Suomi
END:VEVENT
END:VCALENDAR