BEGIN:VCALENDAR
VERSION:2.0
PRODID:-//perinnejazz.fi - ECPv6.15.5//NONSGML v1.0//EN
CALSCALE:GREGORIAN
METHOD:PUBLISH
X-WR-CALNAME:perinnejazz.fi
X-ORIGINAL-URL:https://perinnejazz.fi
X-WR-CALDESC:Tapahtumat perinnejazz.fi
REFRESH-INTERVAL;VALUE=DURATION:PT1H
X-Robots-Tag:noindex
X-PUBLISHED-TTL:PT1H
BEGIN:VTIMEZONE
TZID:Europe/Helsinki
BEGIN:DAYLIGHT
TZOFFSETFROM:+0200
TZOFFSETTO:+0300
TZNAME:EEST
DTSTART:20190331T010000
END:DAYLIGHT
BEGIN:STANDARD
TZOFFSETFROM:+0300
TZOFFSETTO:+0200
TZNAME:EET
DTSTART:20191027T010000
END:STANDARD
END:VTIMEZONE
BEGIN:VEVENT
DTSTART;TZID=Europe/Helsinki:20191030T173000
DTEND;TZID=Europe/Helsinki:20191030T220000
DTSTAMP:20260424T060604
CREATED:20190916T142658Z
LAST-MODIFIED:20191029T092509Z
UID:896-1572456600-1572472800@perinnejazz.fi
SUMMARY:Sipilä Swing Band voc. Erja Uitto
DESCRIPTION:Syksyn Nyyrikin aikataulu: Iltatähden jazztilaisuudet alkaen klo 19\, vapaat jamit klo 21.00 – 22.00. Jami-isäntänä Jaska Harjula.\nYläkerran Ravintola Nyyrikissä lyhytelokuvanäytös ennen jazzeja klo 17.30-18.30.\nElokuvan aikana mahdollista nauttia illallinen. \n  \nElokuvaesityksenä: ”Unta ja Totta – Reino Helismaan stoori”
URL:https://perinnejazz.fi/tapahtuma/sipila-swing-band-voc-erja-uitto/
LOCATION:Ravintola Nyyrikki\, Pohjolankatu 2\, Helsinki\, 00610\, Suomi
CATEGORIES:Jazz-tilaisuudet,Ravintola Nyyrikki
ATTACH;FMTTYPE=image/jpeg:https://perinnejazz.fi/wp-content/uploads/2019/09/perinnejazz-kalenteri.jpg
END:VEVENT
END:VCALENDAR