BEGIN:VCALENDAR
VERSION:2.0
PRODID:-//perinnejazz.fi - ECPv6.15.5//NONSGML v1.0//EN
CALSCALE:GREGORIAN
METHOD:PUBLISH
X-ORIGINAL-URL:https://perinnejazz.fi
X-WR-CALDESC:Tapahtumat perinnejazz.fi
REFRESH-INTERVAL;VALUE=DURATION:PT1H
X-Robots-Tag:noindex
X-PUBLISHED-TTL:PT1H
BEGIN:VTIMEZONE
TZID:Europe/Helsinki
BEGIN:DAYLIGHT
TZOFFSETFROM:+0200
TZOFFSETTO:+0300
TZNAME:EEST
DTSTART:20190331T010000
END:DAYLIGHT
BEGIN:STANDARD
TZOFFSETFROM:+0300
TZOFFSETTO:+0200
TZNAME:EET
DTSTART:20191027T010000
END:STANDARD
END:VTIMEZONE
BEGIN:VEVENT
DTSTART;TZID=Europe/Helsinki:20191010T180000
DTEND;TZID=Europe/Helsinki:20191010T220000
DTSTAMP:20260424T074640
CREATED:20190916T141901Z
LAST-MODIFIED:20191126T080113Z
UID:872-1570730400-1570744800@perinnejazz.fi
SUMMARY:Wade Mikkola & The Young Generation
DESCRIPTION:Katso tapahtuman Facebook linkki tästä: \n 
URL:https://perinnejazz.fi/tapahtuma/wade-mikkola-the-young-generation/
LOCATION:Café Carusel\, Merisatamanranta 10\, Helsinki\, 00150\, Suomi
CATEGORIES:Cafe Carusel
END:VEVENT
END:VCALENDAR